BEGIN:VCALENDAR
VERSION:2.0
PRODID:-//InvisionCommunity Events 4.7.24//EN
METHOD:PUBLISH
CALSCALE:GREGORIAN
REFRESH-INTERVAL:PT15M
X-PUBLISHED-TTL:PT15M
X-WR-CALNAME:VANA Calendar
NAME:VANA Calendar
BEGIN:VTIMEZONE
TZID:Europe/London
TZURL:http://tzurl.org/zoneinfo/Europe/London
X-LIC-LOCATION:Europe/London
BEGIN:DAYLIGHT
TZOFFSETFROM:+0000
TZOFFSETTO:+0100
TZNAME:BST
DTSTART:20250330T020000Z
RRULE:FREQ=YEARLY;BYMONTH=3;BYDAY=-1SU
END:DAYLIGHT
BEGIN:STANDARD
TZOFFSETFROM:+0100
TZOFFSETTO:+0000
TZNAME:GMT
DTSTART:20251026T020000Z
RRULE:FREQ=YEARLY;BYMONTH=10;BYDAY=-1SU
END:STANDARD
END:VTIMEZONE
BEGIN:VEVENT
SUMMARY:FREE VANA Community Webinar
DTSTAMP:20241029T002802Z
SEQUENCE:0
UID:1224-8-83882903247d20c85298d00b96b44978@www.vanetworking.com
ORGANIZER;CN="Tawnya Sutherland":help@vanetworking.com
DESCRIPTION:Dive into success with our FREE monthly training webinars at
	 VAnetworking.com\, tailored specifically for Virtual Assistants eager to 
	growtheir skills and business.\n\nTOPIC:  From Invisible toIn-Demand: Ho
	w to Create Your LinkedIn Profile\n\nSPEAKER: Rosemary O’Shaughnessy\n\
	nWhat You'll Learn: \nIs your LinkedIn profile working as hard as you are
	? In today's digital-first professional world\, your LinkedIn profile is o
	ften the first impressionyou make. Make sure it’s saying the right thing
	s to the right people.In this session\, you’ll discover:Master LinkedI
	n’s Search – Learn the key optimization techniques that make your prof
	ile appear in relevant searches\, whether you're targeting recruiters\, po
	tential clients\, or business partners.Create a Professional Brand – Tra
	nsform your profile into a compelling story that attracts your target audi
	ence and builds trust at a glance.Stand Out From Your Competition – Disc
	over how to differentiateyourself in a crowded market. Learn to highlight 
	your achievements\, soft skills\, and expertise in a way that resonates wi
	th your ideal opportunities.Optimize for Current Opportunities – Whether
	 you're seeking new clients\, career advancement\, or business partnership
	s\, learn how to align your profile with your professional goals. Understa
	nd how recruiters and potential clients search LinkedIn and ensure your pr
	ofile matches their criteria.Whether you’re a remote worker\,freelancer\
	, jobseeker\, or business owner\, this session is perfect for professional
	s who want to use LinkedIn for career growth\, business development\, or j
	ob opportunities.\nJOIN US LIVE HERE:  https://us02web.zoom.us/j/8433042
	2530 (Passcode: 123456)\n\nCan’t Make It LIVE? 🎥  \n\nWe get it\; 
	life is as unpredictable as the latest TikTok trend. If you can't join us 
	live\, we've still got your back. By joining our VANA Community\, you’
	ll get access to the replay\, slide deck notes\, plus a treasure trove of 
	VA resources that’ll make you wonder how you ever freelanced without us.
	 All for under $9/month! It’s just another perk ofbeing part of our awes
	ome community.\n\n🔗 Join our VANA Community today!
DTSTART:20250619T200000Z
DTEND:20250619T210000Z
END:VEVENT
END:VCALENDAR
