BEGIN:VCALENDAR
VERSION:2.0
PRODID:-//InvisionCommunity Events 4.7.24//EN
METHOD:PUBLISH
CALSCALE:GREGORIAN
REFRESH-INTERVAL:PT15M
X-PUBLISHED-TTL:PT15M
X-WR-CALNAME:VANA Calendar
NAME:VANA Calendar
BEGIN:VTIMEZONE
TZID:Europe/London
TZURL:http://tzurl.org/zoneinfo/Europe/London
X-LIC-LOCATION:Europe/London
BEGIN:DAYLIGHT
TZOFFSETFROM:+0000
TZOFFSETTO:+0100
TZNAME:BST
DTSTART:20250330T020000Z
RRULE:FREQ=YEARLY;BYMONTH=3;BYDAY=-1SU
END:DAYLIGHT
BEGIN:STANDARD
TZOFFSETFROM:+0100
TZOFFSETTO:+0000
TZNAME:GMT
DTSTART:20251026T020000Z
RRULE:FREQ=YEARLY;BYMONTH=10;BYDAY=-1SU
END:STANDARD
END:VTIMEZONE
BEGIN:VEVENT
SUMMARY:FREE VANA Community Webinar
DTSTAMP:20241029T002802Z
SEQUENCE:1
UID:1225-8-83882903247d20c85298d00b96b44978@www.vanetworking.com
ORGANIZER;CN="Tawnya Sutherland":help@vanetworking.com
DESCRIPTION:Dive into success with our FREE monthly training webinars at
	 VAnetworking.com\, tailored specifically for Virtual Assistants eager to 
	growtheir skills and business.\n\nTOPIC: Price Your Services Right\n\n\nS
	PEAKER: Tammy Durden\n\n\nWhat You'll Learn: \nSetting your rates and pr
	icing your services can be overwhelming\, especially when you’re unsure 
	how to stand out or charge what you’re worth. Let’s break down how to 
	approach pricing with confidence and strategy.In this session\, you’ll d
	iscover:The power of market and competitive research – Learn how toasse
	ss your industry and competition to price your services strategically and 
	competitively.Why you should stop charging hourly – Understand why hour
	ly billing can limit your income and how calculating your true rate can he
	lp you price smarter.The benefits of package pricing – See real example
	s of why switching from hourly billing to monthly packages can simplify yo
	ur business and increase your income.The key to pricing your services righ
	t is confidence\, and that comes from understanding your market\, setting 
	the right rates\, and building packages that reflect your value.\nJOIN US 
	LIVE HERE:  https://us02web.zoom.us/j/84330422530 (Passcode: 123456)\n\
	nCan’t Make It LIVE? 🎥  \n\nWe get it\; life is as unpredictable as
	 the latest TikTok trend. If you can't join us live\, we've still got your
	 back. By joining our VANA Community\, you’ll get access to the replay
	\, slide deck notes\, plus a treasure trove of VA resources that’ll make
	 you wonder how you ever freelanced without us.All for under $9/month! I
	t’s just another perk of being part of our awesome community.\n\n🔗 J
	oin our VANA Community today!
DTSTART:20250522T200000Z
DTEND:20250522T210000Z
END:VEVENT
END:VCALENDAR
