BEGIN:VCALENDAR
VERSION:2.0
PRODID:-//InvisionCommunity Events 4.7.24//EN
METHOD:PUBLISH
CALSCALE:GREGORIAN
REFRESH-INTERVAL:PT15M
X-PUBLISHED-TTL:PT15M
X-WR-CALNAME:VANA Calendar
NAME:VANA Calendar
BEGIN:VTIMEZONE
TZID:Europe/London
TZURL:http://tzurl.org/zoneinfo/Europe/London
X-LIC-LOCATION:Europe/London
BEGIN:DAYLIGHT
TZOFFSETFROM:+0000
TZOFFSETTO:+0100
TZNAME:BST
DTSTART:20250330T020000Z
RRULE:FREQ=YEARLY;BYMONTH=3;BYDAY=-1SU
END:DAYLIGHT
BEGIN:STANDARD
TZOFFSETFROM:+0100
TZOFFSETTO:+0000
TZNAME:GMT
DTSTART:20251026T020000Z
RRULE:FREQ=YEARLY;BYMONTH=10;BYDAY=-1SU
END:STANDARD
END:VTIMEZONE
BEGIN:VEVENT
SUMMARY:FREE VANA Community Webinar
DTSTAMP:20241029T002802Z
SEQUENCE:0
UID:1226-8-83882903247d20c85298d00b96b44978@www.vanetworking.com
ORGANIZER;CN="Tawnya Sutherland":help@vanetworking.com
DESCRIPTION:Dive into success with our FREE monthly training webinars at
	 VAnetworking.com\, tailored specifically for Virtual Assistants eager to 
	growtheir skills and business.\n\nTOPIC: Turn Your VA Passion Into A Care
	er\n\nSPEAKER: Dan R. Morris\n\nWhat You'll Learn: \n\n\nThe hardest par
	t about any online venture is having enough confidence in your income\, mo
	nths down the line\, to quit everything else. Let’s talk about how to bu
	ild a variety of income sources so you’re never too reliant on just one 
	thing.\nIn this session\, you’ll discover:How to build multiple income s
	treams – Learn strategies for diversifying your income sources so you c
	an create stability in your business.The importance of passive income –
	 Understand how to build income that doesn’t require constant time or ef
	fort\, allowing you to work smarter\, not harder.Avoiding burnout – Lea
	rn how working multiple jobs can lead to burnout and how to structure your
	 income for long-term success without overloading yourself.The key to maki
	ng this work is building income that doesn’t require your time\, because
	 always juggling 3-4 different jobs just leads to burnout.\n\nJOIN US LIVE
	 HERE:  https://us02web.zoom.us/j/84330422530 (Passcode: 123456)\n\nC
	an’t Make It LIVE? 🎥  \n\nWe getit\; life is as unpredictable as th
	e latest TikTok trend. If you can't join us live\, we've still got your ba
	ck. By joining our VANA Community\, you’ll get access to the replay\, 
	slide deck notes\, plus a treasure trove of VA resources that’ll make yo
	u wonder how you ever freelanced without us. All for under $9/month! It’
	s just another perk of being part of our awesome community.\n\n🔗 Join 
	our VANA Community today!
DTSTART:20250424T200000Z
DTEND:20250424T210000Z
END:VEVENT
END:VCALENDAR
