BEGIN:VCALENDAR
VERSION:2.0
PRODID:-//InvisionCommunity Events 4.7.24//EN
METHOD:PUBLISH
CALSCALE:GREGORIAN
REFRESH-INTERVAL:PT15M
X-PUBLISHED-TTL:PT15M
X-WR-CALNAME:VANA Calendar
NAME:VANA Calendar
BEGIN:VTIMEZONE
TZID:Europe/London
TZURL:http://tzurl.org/zoneinfo/Europe/London
X-LIC-LOCATION:Europe/London
BEGIN:DAYLIGHT
TZOFFSETFROM:+0000
TZOFFSETTO:+0100
TZNAME:BST
DTSTART:20250330T020000Z
RRULE:FREQ=YEARLY;BYMONTH=3;BYDAY=-1SU
END:DAYLIGHT
BEGIN:STANDARD
TZOFFSETFROM:+0100
TZOFFSETTO:+0000
TZNAME:GMT
DTSTART:20251026T020000Z
RRULE:FREQ=YEARLY;BYMONTH=10;BYDAY=-1SU
END:STANDARD
END:VTIMEZONE
BEGIN:VEVENT
SUMMARY:FREE VANA Community Webinar
DTSTAMP:20241029T002802Z
SEQUENCE:0
UID:1227-8-83882903247d20c85298d00b96b44978@www.vanetworking.com
ORGANIZER;CN="Tawnya Sutherland":help@vanetworking.com
DESCRIPTION:Dive into success with our FREE monthly training webinars at
	 VAnetworking.com\, tailored specifically for Virtual Assistants eager to 
	growtheir skills and business.\n\nTOPIC: Create Lifestyle Freedom by Ble
	nding Services and Courses\n\nSPEAKER: Angela Wills\n\nWhat You'll Learn:
	 \n\n\nAs a Virtual Assistant\, you have a unique advantage—you see fir
	sthand how successful businesses operate. When combined with your own expe
	rience\, this gives youa powerful skill set that can be leveraged beyond c
	lient work.Inthis value-packed session\, you’ll discover:Why adding cour
	ses or digital downloads is a game-changer – Learn howto create an addi
	tional income stream that allows you to be more selectivewith clients.How 
	to blend services with digital offers – Discover the strategies for int
	egrating courses or downloads into your business without overwhelming your
	 workload.The foundations of total lifestyle freedom – Gain insight int
	o structuring your business in a way that maximizes flexibility and long-t
	erm success.Attendees will leave with the knowledge and confidence to expa
	nd their offerings and build a business that works for them!\n\nJOIN US L
	IVE HERE:  https://us02web.zoom.us/j/84330422530 (Passcode: 123456)\n\n
	Can’t Make It LIVE? 🎥 \n\nWe get it\; life is as unpredictable as th
	e latest TikTok trend. If you can't join us live\, we've still got your ba
	ck. By joining our VANA Community\, you’ll get access to the replay\, 
	slide deck notes\, plus a treasure trove of VA resources that’ll make yo
	u wonder how you ever freelancedwithout us. All for under $9/month! It’s
	 just another perk of being part of our awesome community.\n\n🔗 Join o
	ur VANA Community today!
DTSTART:20250327T200000Z
DTEND:20250327T210000Z
END:VEVENT
END:VCALENDAR
