BEGIN:VCALENDAR
VERSION:2.0
PRODID:-//InvisionCommunity Events 4.7.24//EN
METHOD:PUBLISH
CALSCALE:GREGORIAN
REFRESH-INTERVAL:PT15M
X-PUBLISHED-TTL:PT15M
X-WR-CALNAME:VANA Calendar
NAME:VANA Calendar
BEGIN:VTIMEZONE
TZID:Europe/London
TZURL:http://tzurl.org/zoneinfo/Europe/London
X-LIC-LOCATION:Europe/London
BEGIN:DAYLIGHT
TZOFFSETFROM:+0000
TZOFFSETTO:+0100
TZNAME:BST
DTSTART:20250330T020000Z
RRULE:FREQ=YEARLY;BYMONTH=3;BYDAY=-1SU
END:DAYLIGHT
BEGIN:STANDARD
TZOFFSETFROM:+0100
TZOFFSETTO:+0000
TZNAME:GMT
DTSTART:20251026T020000Z
RRULE:FREQ=YEARLY;BYMONTH=10;BYDAY=-1SU
END:STANDARD
END:VTIMEZONE
BEGIN:VEVENT
SUMMARY:FREE VANA Community Webinar
DTSTAMP:20250206T071002Z
SEQUENCE:0
UID:1243-8-83882903247d20c85298d00b96b44978@www.vanetworking.com
ORGANIZER;CN="Tawnya Sutherland":help@vanetworking.com
DESCRIPTION:Dive into success with our FREE monthly training webinars at
	 VAnetworking.com\, tailored specifically for Virtual Assistants eager to 
	growtheir skills and business.\n\nTOPIC: Smart Systems for Virtual Assist
	ants\n\nSPEAKER: Lisa Millar\n\nWhat You'll Discover How To: \n\nDiscove
	r how to bring clarity\, structure\, and speed to your virtual assistant b
	usiness using the power of systems thinking! In this session\, we’ll exp
	lore how a systems-based approach can help you simplify your workflows\, m
	inimize errors\, and scale with confidence.\nYou’ll learn how to:Think i
	n systems\, notscattered tasks – so your business runs smoothly instead
	 of chaoticallyBuild 6 simple core systems that make the biggest differen
	ce in a businessSpot the “energy leaks” in your current workflow and 
	replace them with clear\, repeatable processesMake client work flow with e
	ase through clear communication and simple check-insWalk away with a doab
	le action plan you can start using right away (without adding morestress 
	to your week)Whether you’re brand new or already serving multiple client
	s\, this session will give you practical tools and a fresh perspective t
	o help your VA business run smoothlyand with consistency. The best part is
	 that it takes away the overwhelm and stress\, allowing you and your clien
	ts to scale and grow with measurable results.JOIN US LIVE HERE:  https:/
	/us02web.zoom.us/j/84330422530 (Passcode: 123456)\n\nCan’t Make It L
	IVE? 🎥  \n\nWe get it\; life is as unpredictable as the latest TikTok
	 trend. If you can't join us live\, we've still got your back. By joining
	 our VANA Community\, you’ll get access to the replay\, slide deck note
	s\, plus a treasure troveof VA resources that’ll make you wonder how you
	 ever freelanced without us. All for under $9/month! It’s just another p
	erk of being part of our awesome community.\n\n🔗 Join our VANA Communi
	ty today!
DTSTART:20250925T200000Z
DTEND:20250925T210000Z
END:VEVENT
END:VCALENDAR
