BEGIN:VCALENDAR
VERSION:2.0
PRODID:-//InvisionCommunity Events 4.7.24//EN
METHOD:PUBLISH
CALSCALE:GREGORIAN
REFRESH-INTERVAL:PT15M
X-PUBLISHED-TTL:PT15M
X-WR-CALNAME:VANA Calendar
NAME:VANA Calendar
BEGIN:VTIMEZONE
TZID:Europe/London
TZURL:http://tzurl.org/zoneinfo/Europe/London
X-LIC-LOCATION:Europe/London
BEGIN:DAYLIGHT
TZOFFSETFROM:+0000
TZOFFSETTO:+0100
TZNAME:BST
DTSTART:20250330T020000Z
RRULE:FREQ=YEARLY;BYMONTH=3;BYDAY=-1SU
END:DAYLIGHT
BEGIN:STANDARD
TZOFFSETFROM:+0100
TZOFFSETTO:+0000
TZNAME:GMT
DTSTART:20251026T020000Z
RRULE:FREQ=YEARLY;BYMONTH=10;BYDAY=-1SU
END:STANDARD
END:VTIMEZONE
BEGIN:VEVENT
SUMMARY:FREE VANA Community Webinar
DTSTAMP:20250206T071002Z
SEQUENCE:2
UID:1244-8-83882903247d20c85298d00b96b44978@www.vanetworking.com
ORGANIZER;CN="Tawnya Sutherland":help@vanetworking.com
DESCRIPTION:Dive into success with our FREE monthly training webinars at
	 VAnetworking.com\, tailored specifically for Virtual Assistants eager to 
	growtheir skills and business.\n\nTOPIC: AI-Powered Video &amp\;Podcastin
	g\n\nSPEAKER: Lou Bortone\n\nWhat You'll Learn: \n\nUnlock the full pote
	ntial of your podcasting journey with cutting-edge AI tools and video stra
	tegies! In this dynamic session\, we’ll dive deep into how artificial in
	telligence is transforming the podcasting landscape\, particularly in vide
	o content creation and editing. You’ll learn how to:Master AI-powered e
	diting tools to slash your post-production time by up to 70%Repurpose your
	 long-form content into viral short-form videos using AIDiscover advanced 
	AI techniques for creating eye-catching thumbnails and graphicsExplore AI-
	driven analytics to optimize your content strategy and grow your audienceU
	nderstand how to leverage AI for automated transcription\, captioning\, an
	d translationWhether you’re a seasoned creator or just starting out\, 
	you’ll discover game-changing techniques to elevate your showand captiva
	te your audience.\nJOIN US LIVE HERE:  https://us02web.zoom.us/j/8433042
	2530 (Passcode: 123456)\n\nCan’t Make It LIVE?🎥  \n\nWe get it\; l
	ife is as unpredictable as the latest TikTok trend. If you can't join us l
	ive\, we've still got your back. By joining ourVANA Community\, you’ll
	 get access to the replay\, slide deck notes\, plus a treasure trove of VA
	 resources that’ll make you wonder how you ever freelanced without us. A
	ll for under $9/month! It’s just another perk of being part of our aweso
	me community.\n\n🔗 Join our VANA Community today!
DTSTART:20250807T200000Z
DTEND:20250807T210000Z
END:VEVENT
END:VCALENDAR
