BEGIN:VCALENDAR
VERSION:2.0
PRODID:-//InvisionCommunity Events 4.7.24//EN
METHOD:PUBLISH
CALSCALE:GREGORIAN
REFRESH-INTERVAL:PT15M
X-PUBLISHED-TTL:PT15M
X-WR-CALNAME:VANA Calendar
NAME:VANA Calendar
BEGIN:VTIMEZONE
TZID:Europe/London
TZURL:http://tzurl.org/zoneinfo/Europe/London
X-LIC-LOCATION:Europe/London
BEGIN:DAYLIGHT
TZOFFSETFROM:+0000
TZOFFSETTO:+0100
TZNAME:BST
DTSTART:20250330T020000Z
RRULE:FREQ=YEARLY;BYMONTH=3;BYDAY=-1SU
END:DAYLIGHT
BEGIN:STANDARD
TZOFFSETFROM:+0100
TZOFFSETTO:+0000
TZNAME:GMT
DTSTART:20251026T020000Z
RRULE:FREQ=YEARLY;BYMONTH=10;BYDAY=-1SU
END:STANDARD
END:VTIMEZONE
BEGIN:VEVENT
SUMMARY:FREE VANA Community Webinar
DTSTAMP:20250206T071002Z
SEQUENCE:0
UID:1245-8-83882903247d20c85298d00b96b44978@www.vanetworking.com
ORGANIZER;CN="Tawnya Sutherland":help@vanetworking.com
DESCRIPTION:Dive into success with our FREE monthly training webinars at
	 VAnetworking.com\, tailored specifically for Virtual Assistants eager to 
	growtheir skills and business.\n\nTOPIC: Invincible: The Power of a Posit
	ive Mindset\n\nSPEAKER: Trish Kimble\n\nWhat You'll Learn: \n\nAre you r
	unning a business\, or just working for yourself? Success as a freelancer 
	isn’t just about systems and skills—it’s about how you think. Let’
	s tap into the mindset shift that took me from uncertain freelancer to a c
	onfident Invincible VA —and how you can do the same. \n\nYou’ll wal
	k away knowing how to:\n\nRewire Your Thinking: Reframe fear and self-doub
	t into stepping stonesfor success Create a CEO Mindset: Shift from task-d
	oer to confident business leaderBuild Resilience: Learn to reframe challen
	ges tobounce back faster and keep momentum strongTake Control: Cultivate h
	abits to step into your power and set boundaries that support your success
	\n\nWhether you’re just starting out or looking to grow your freelance b
	usiness\, this session will help you build the confidence and clarity you 
	need to thrive.\nJOIN US LIVE HERE:  https://us02web.zoom.us/j/843304225
	30 (Passcode: 123456)\n\nCan’t Make It LIVE? 🎥  \n\nWe get it\; li
	fe is as unpredictable as the latest TikTok trend. If you can't join us li
	ve\, we've still got your back. By joining our VANA Community\, you’ll
	 get access to the replay\, slide deck notes\, plus a treasure trove of VA
	 resources that’llmake you wonder how you ever freelanced without us. Al
	l for under $9/month! It’s just another perk of being part of our awesom
	e community.\n\n🔗 Join our VANA Community today!
DTSTART:20250717T200000Z
DTEND:20250717T210000Z
END:VEVENT
END:VCALENDAR
