BEGIN:VCALENDAR
VERSION:2.0
PRODID:-//InvisionCommunity Events 4.7.24//EN
METHOD:PUBLISH
CALSCALE:GREGORIAN
REFRESH-INTERVAL:PT15M
X-PUBLISHED-TTL:PT15M
X-WR-CALNAME:VANA Calendar
NAME:VANA Calendar
BEGIN:VTIMEZONE
TZID:Europe/London
TZURL:http://tzurl.org/zoneinfo/Europe/London
X-LIC-LOCATION:Europe/London
BEGIN:DAYLIGHT
TZOFFSETFROM:+0000
TZOFFSETTO:+0100
TZNAME:BST
DTSTART:20250330T020000Z
RRULE:FREQ=YEARLY;BYMONTH=3;BYDAY=-1SU
END:DAYLIGHT
BEGIN:STANDARD
TZOFFSETFROM:+0100
TZOFFSETTO:+0000
TZNAME:GMT
DTSTART:20251026T020000Z
RRULE:FREQ=YEARLY;BYMONTH=10;BYDAY=-1SU
END:STANDARD
END:VTIMEZONE
BEGIN:VEVENT
SUMMARY:Get Clients Club: Group Coaching
DTSTAMP:20250317T234001Z
SEQUENCE:2
UID:1249-8-83882903247d20c85298d00b96b44978@www.vanetworking.com
ORGANIZER;CN="Tawnya Sutherland":help@vanetworking.com
DESCRIPTION:👥 Ready to Elevate Your Business?\nJoin our Monthly Group
	 Coaching Session — designed for service providers ready to grow!Whether
	 you're just getting started or feeling stuck in your online business\, th
	ese sessions are built to give you clarity\, direction\, and results.💡 
	Why Attend?✔️ Expert Guidance\nLearn directly from Tawnya Sutherland\,
	 a 20-year industry leader in the virtual assistant and freelanceworld. He
	r no-fluff insights will help you shift your strategy and land more client
	s.✔️ Collaborative Support\nBring your questions\, challenges\, and id
	eas. In just one hour\, you'll walk away withactionable advice and new mom
	entum.✔️ Focused Growth\nThese sessions are laser-focused on helping y
	ou break through what’s holding you back and move forward with purpos
	e.📅 How to JoinCurrent Members:\nLog into your Member Dashboard for the
	 Zoom link.Not a Member Yet?\nDon’t miss out — JOIN US NOW at GetClien
	tsClub.com and start building the business you've been dreaming about.✨ 
	Let’s turn your goals into action.\nWe can’t wait to see you there!
DTSTART:20250430T190000Z
DTEND:20250430T200000Z
END:VEVENT
END:VCALENDAR
