BEGIN:VCALENDAR
VERSION:2.0
PRODID:-//InvisionCommunity Events 4.7.24//EN
METHOD:PUBLISH
CALSCALE:GREGORIAN
REFRESH-INTERVAL:PT15M
X-PUBLISHED-TTL:PT15M
X-WR-CALNAME:VANA Calendar
NAME:VANA Calendar
BEGIN:VTIMEZONE
TZID:Europe/London
TZURL:http://tzurl.org/zoneinfo/Europe/London
X-LIC-LOCATION:Europe/London
BEGIN:DAYLIGHT
TZOFFSETFROM:+0000
TZOFFSETTO:+0100
TZNAME:BST
DTSTART:20250330T020000Z
RRULE:FREQ=YEARLY;BYMONTH=3;BYDAY=-1SU
END:DAYLIGHT
BEGIN:STANDARD
TZOFFSETFROM:+0100
TZOFFSETTO:+0000
TZNAME:GMT
DTSTART:20251026T020000Z
RRULE:FREQ=YEARLY;BYMONTH=10;BYDAY=-1SU
END:STANDARD
END:VTIMEZONE
BEGIN:VEVENT
SUMMARY:Get Clients Club: Monthly Training
DTSTAMP:20250317T234001Z
SEQUENCE:2
UID:1250-8-83882903247d20c85298d00b96b44978@www.vanetworking.com
ORGANIZER;CN="Tawnya Sutherland":help@vanetworking.com
DESCRIPTION:📚 Get Clients Club Core Training SeriesWhat you’ll lear
	n today:\n• Networking for Clients Offline\n• Networking 101\n• Neve
	r fear. Just prepare!\n• Mastering the Art of Conversation\n• Effectiv
	e Networking TIPS\n• Networking OINKS\n• Connections &amp\; Follow-upG
	et ready to become a client magnet!\nThis series teaches you how to find c
	lients\, keep clients\, and have those clients send you steady referrals f
	or years to come.If you’ve ever asked:\n“How do I find clients?”\nTh
	is ongoing series has the answers — with proven\, client-attracting stra
	tegies you can implement right away.🔗 How to JoinCurrent Members:\nLog 
	into your Member Dashboard for the Zoom link.Not a Member Yet?\nDon’t mi
	ss out — JOIN US NOW at GetClientsClub.com and start your journey toward
	 business success.
DTSTART:20250430T180000Z
DTEND:20250430T190000Z
END:VEVENT
END:VCALENDAR
