BEGIN:VCALENDAR
VERSION:2.0
PRODID:-//InvisionCommunity Events 4.7.24//EN
METHOD:PUBLISH
CALSCALE:GREGORIAN
REFRESH-INTERVAL:PT15M
X-PUBLISHED-TTL:PT15M
X-WR-CALNAME:VANA Calendar
NAME:VANA Calendar
BEGIN:VTIMEZONE
TZID:Europe/London
TZURL:http://tzurl.org/zoneinfo/Europe/London
X-LIC-LOCATION:Europe/London
BEGIN:DAYLIGHT
TZOFFSETFROM:+0000
TZOFFSETTO:+0100
TZNAME:BST
DTSTART:20250330T020000Z
RRULE:FREQ=YEARLY;BYMONTH=3;BYDAY=-1SU
END:DAYLIGHT
BEGIN:STANDARD
TZOFFSETFROM:+0100
TZOFFSETTO:+0000
TZNAME:GMT
DTSTART:20251026T020000Z
RRULE:FREQ=YEARLY;BYMONTH=10;BYDAY=-1SU
END:STANDARD
END:VTIMEZONE
BEGIN:VEVENT
SUMMARY:FREE VANA Community Webinar
DTSTAMP:20250903T003401Z
SEQUENCE:4
UID:1276-8-83882903247d20c85298d00b96b44978@www.vanetworking.com
ORGANIZER;CN="Tawnya Sutherland":help@vanetworking.com
DESCRIPTION:Dive into success with our FREE monthly training webinars at
	 VAnetworking.com\, tailored specifically for Virtual Assistants eager to 
	growtheir skills and business.\n\nTOPIC:  So You Want to Work Remotely (
	Like a VA)?\n\nSPEAKER: Tawnya Sutherland\n\nWhat You'll Learn: \n\nWork
	ing remotely as a service provider — or Virtual Assistant (VA) — offer
	s incredible freedom\, flexibility\, and the satisfaction of being your ow
	n boss. You get to choose who you work with\, set your own schedule\, and 
	build a business around your skills.\n\nOf course\, that freedom also come
	s with new challenges. Running your own business means taking charge of ev
	erything — from finding clients to managing your time and income.\n\nIf 
	you’ve ever wondered what it’s really like to work for yourself online
	\, this session is for you. Drawing on over 20 years of experience in the 
	VA industry\, Tawnya Sutherland shares real-world insights and answers to 
	the most common questions\, including:\nWHO becomes a successful VA (and w
	hat traits make them shine)WHY clients hire VAs (and how to become indispe
	nsable)WHAT services VAs can offerWHEN VAs get paid (and how to price smar
	tly)WHERE VAs find clients — and how to land your first one\nJOIN USLIVE
	 HERE:  https://us02web.zoom.us/j/84330422530 (Passcode: 123456)\n\nC
	an’t Make It LIVE? 🎥  \n\nWe get it\; life is as unpredictable as t
	he latest TikTok trend. If you can't join us live\, we've still got your b
	ack. By joining our VANA Community\, you’ll get access to the replay\,
	 slide deck notes\, plus a treasure trove of VA resources that’ll make y
	ou wonder how you ever freelanced without us. All for under $9/month! It
	’s just another perk of being part of our awesome community.\n\n🔗 Jo
	in our VANA Community today!
DTSTART:20251023T200000Z
DTEND:20251023T210000Z
END:VEVENT
END:VCALENDAR
