BEGIN:VCALENDAR
VERSION:2.0
PRODID:-//InvisionCommunity Events 4.7.24//EN
METHOD:PUBLISH
CALSCALE:GREGORIAN
REFRESH-INTERVAL:PT15M
X-PUBLISHED-TTL:PT15M
X-WR-CALNAME:VANA Calendar
NAME:VANA Calendar
BEGIN:VTIMEZONE
TZID:Europe/London
TZURL:http://tzurl.org/zoneinfo/Europe/London
X-LIC-LOCATION:Europe/London
BEGIN:DAYLIGHT
TZOFFSETFROM:+0000
TZOFFSETTO:+0100
TZNAME:BST
DTSTART:20250330T020000Z
RRULE:FREQ=YEARLY;BYMONTH=3;BYDAY=-1SU
END:DAYLIGHT
BEGIN:STANDARD
TZOFFSETFROM:+0100
TZOFFSETTO:+0000
TZNAME:GMT
DTSTART:20251026T020000Z
RRULE:FREQ=YEARLY;BYMONTH=10;BYDAY=-1SU
END:STANDARD
END:VTIMEZONE
BEGIN:VEVENT
SUMMARY:Get Clients Club: Monthly Training
DTSTAMP:20250903T003401Z
SEQUENCE:3
UID:1279-8-83882903247d20c85298d00b96b44978@www.vanetworking.com
ORGANIZER;CN="Tawnya Sutherland":help@vanetworking.com
DESCRIPTION:Get Clients Club Core Training Series\n\nWhat you'lllearn to
	day: \nKnow Your ClientNarrow down your service listFind your nicheDiscov
	er your target marketYour client avatarService ChecklistClient Avatar Work
	sheetNiche\, Target Market\, Client Avatar WorksheetGet ready to become a 
	client magnet because this series is where you’ll learn how to find clie
	nts\, keep clients\, and have those clients send you steady streams of ref
	errals for years to come!\n\nIf you want the answer to the famous question
	 of: “How do I findclients?” This ongoing series will give you the ans
	wers you've been searching for. You'll be provided with successful client-
	attracting strategies that you can implement How to Join:Current Members
	:  Log into your Member Dashboard for the Zoom link.\n\nNot a Member Y
	et? Don’t miss out—JOIN US NOW at GetClientsClub.com and start you
	r journey towards business success.
DTSTART:20250924T180000Z
DTEND:20250924T193000Z
END:VEVENT
END:VCALENDAR
