BEGIN:VCALENDAR
VERSION:2.0
PRODID:-//InvisionCommunity Events 4.7.24//EN
METHOD:PUBLISH
CALSCALE:GREGORIAN
REFRESH-INTERVAL:PT15M
X-PUBLISHED-TTL:PT15M
X-WR-CALNAME:VANA Calendar
NAME:VANA Calendar
BEGIN:VTIMEZONE
TZID:Europe/London
TZURL:http://tzurl.org/zoneinfo/Europe/London
X-LIC-LOCATION:Europe/London
BEGIN:DAYLIGHT
TZOFFSETFROM:+0000
TZOFFSETTO:+0100
TZNAME:BST
DTSTART:20250330T020000Z
RRULE:FREQ=YEARLY;BYMONTH=3;BYDAY=-1SU
END:DAYLIGHT
BEGIN:STANDARD
TZOFFSETFROM:+0100
TZOFFSETTO:+0000
TZNAME:GMT
DTSTART:20251026T020000Z
RRULE:FREQ=YEARLY;BYMONTH=10;BYDAY=-1SU
END:STANDARD
END:VTIMEZONE
BEGIN:VEVENT
SUMMARY:Get Clients Club: Monthly Training
DTSTAMP:20250911T003402Z
SEQUENCE:0
UID:1283-8-83882903247d20c85298d00b96b44978@www.vanetworking.com
ORGANIZER;CN="Tawnya Sutherland":help@vanetworking.com
DESCRIPTION:Get Clients Club Core Training Series\n\nWhat you'lllearn to
	day: \nFinding Clients: The Where and How GuideKeeping ScoreYour Warm/Hot
	 MarketThe Offline Client MarketThe Online Client MarketCold Calling Works
	Job Boards Save You TimeLanding Loads ofClients WorksheetRecommended Job B
	oardsGet ready to become a client magnet because this series is where yo
	u’ll learn how to find clients\, keep clients\, and have those clients s
	end you steady streams of referrals for years to come!\n\nIf you want the 
	answer to the famous question of: “How do I find clients?” This ongoin
	g series will give you the answers you've been searching for. You'll be pr
	ovided with successful client-attracting strategies that you can implement
	 How toJoin:Current Members:  Log into your Member Dashboard for the Z
	oom link.\n\nNot a Member Yet? Don’t miss out—JOIN US NOW at GetCli
	entsClub.com and start your journey towards business success.
DTSTART:20251217T190000Z
DTEND:20251217T203000Z
END:VEVENT
END:VCALENDAR
