BEGIN:VCALENDAR
VERSION:2.0
PRODID:-//InvisionCommunity Events 4.7.24//EN
METHOD:PUBLISH
CALSCALE:GREGORIAN
REFRESH-INTERVAL:PT15M
X-PUBLISHED-TTL:PT15M
X-WR-CALNAME:VANA Calendar
NAME:VANA Calendar
BEGIN:VTIMEZONE
TZID:Europe/London
TZURL:http://tzurl.org/zoneinfo/Europe/London
X-LIC-LOCATION:Europe/London
BEGIN:DAYLIGHT
TZOFFSETFROM:+0000
TZOFFSETTO:+0100
TZNAME:BST
DTSTART:20250330T020000Z
RRULE:FREQ=YEARLY;BYMONTH=3;BYDAY=-1SU
END:DAYLIGHT
BEGIN:STANDARD
TZOFFSETFROM:+0100
TZOFFSETTO:+0000
TZNAME:GMT
DTSTART:20251026T020000Z
RRULE:FREQ=YEARLY;BYMONTH=10;BYDAY=-1SU
END:STANDARD
END:VTIMEZONE
BEGIN:VEVENT
SUMMARY:#VAVS: Amber Louise (On-demand replay available until Nov. 7
	th\, 4 PM PT)
DTSTAMP:20250918T203402Z
SEQUENCE:0
UID:1289-8-83882903247d20c85298d00b96b44978@www.vanetworking.com
ORGANIZER;CN="Tawnya Sutherland":help@vanetworking.com
DESCRIPTION:&gt\;:&gt\;: Going to miss this one? No worries — grab a 
	VIP Pass and you’ll get the full replay\, notes\, and many more goodies 
	(yep\, $2000+ in Swag gifts!).\n🎟️ Grab a VIP Pass  \n\nTOPIC: 
	Don’t Take on More Clients—Monetize with Digital Products\n\nSPEAKER:
	 Amber Louise\n\nWHAT YOU'LL LEARN:\n\nIf your client schedule is full bu
	t you’re still looking to grow your income\, this session is for you. Jo
	in Amber Louise as she shares how Virtual Assistants can turn their skills
	 into sellabledigital products that create ongoing revenue—without addin
	g more to their plate.In this session\, you’ll learn how to:Identify pro
	fitable digital product ideas based on your expertisePackage templates\, e
	Books\, mini-courses\, and morePrice and promote your offers effectivelySe
	t up simple systems to automate sales and deliveryAvoid common missteps wh
	en launching your first productPerfect for VAs ready to diversify their in
	come\, work smarter\, and build a more scalable business.Amber Louise –
	 Digital business consultant and VA mentor\, she helps women confidently c
	reate\, market\, and sell digital products.
DTSTART;VALUE=DATE:20251105
DTEND;VALUE=DATE:20251108
END:VEVENT
END:VCALENDAR
