BEGIN:VCALENDAR
VERSION:2.0
PRODID:-//InvisionCommunity Events 4.7.24//EN
METHOD:PUBLISH
CALSCALE:GREGORIAN
REFRESH-INTERVAL:PT15M
X-PUBLISHED-TTL:PT15M
X-WR-CALNAME:VANA Calendar
NAME:VANA Calendar
BEGIN:VTIMEZONE
TZID:Europe/London
TZURL:http://tzurl.org/zoneinfo/Europe/London
X-LIC-LOCATION:Europe/London
BEGIN:DAYLIGHT
TZOFFSETFROM:+0000
TZOFFSETTO:+0100
TZNAME:BST
DTSTART:20250330T020000Z
RRULE:FREQ=YEARLY;BYMONTH=3;BYDAY=-1SU
END:DAYLIGHT
BEGIN:STANDARD
TZOFFSETFROM:+0100
TZOFFSETTO:+0000
TZNAME:GMT
DTSTART:20251026T020000Z
RRULE:FREQ=YEARLY;BYMONTH=10;BYDAY=-1SU
END:STANDARD
END:VTIMEZONE
BEGIN:VEVENT
SUMMARY:#VAVS: Breanna Cain (On-demand replay available until Nov. 7
	th\, 4 PM PT)
DTSTAMP:20250918T203402Z
SEQUENCE:0
UID:1290-8-83882903247d20c85298d00b96b44978@www.vanetworking.com
ORGANIZER;CN="Tawnya Sutherland":help@vanetworking.com
DESCRIPTION:&gt\;:&gt\;: Going to miss this one? No worries — grab a 
	VIP Pass and you’ll get the full replay\, notes\, and many more goodies 
	(yep\, $2000+ in Swag gifts!).\n🎟️ Grab a VIP Pass  \n\nTOPIC: 1%
	 VA: How to Attract Wealth\, Stand Out\, and Build an Empire\n\nSPEAKER: B
	reanna Cain\n\nWHATYOU'LL LEARN:\n\nWhat separates the top 1% of Virtual A
	ssistants from everyone else? It’s not just tactics—it’s identity\, 
	positioning\, and scale. In this high-impact session\, Breanna Cain walks 
	you through the strategic and energetic blueprint for becoming the kind of
	 VA dream clients seek out and stay loyal to.\nYou’ll learn how to:Activ
	ate Money Magnetism through wealth energetics and identity calibrationMast
	er Premium Positioning with marketing and messaging that command respectBu
	ild for longevity through Empire Building strategies that scale beyond tra
	ding time for dollars\nIf you’re ready to stop side-hustling and start b
	uilding a sought-after VA business that leads with confidence and earns on
	 your terms\, this session is your roadmap.Breanna Cain – Founder of VA
	 Leadership Academy and ICON &amp\; Lightning VA Agency\, she helps women 
	build profitable VA businesses and standout category-of-one brands.
DTSTART;VALUE=DATE:20251105
DTEND;VALUE=DATE:20251108
END:VEVENT
END:VCALENDAR
