BEGIN:VCALENDAR
VERSION:2.0
PRODID:-//InvisionCommunity Events 4.7.24//EN
METHOD:PUBLISH
CALSCALE:GREGORIAN
REFRESH-INTERVAL:PT15M
X-PUBLISHED-TTL:PT15M
X-WR-CALNAME:VANA Calendar
NAME:VANA Calendar
BEGIN:VTIMEZONE
TZID:Europe/London
TZURL:http://tzurl.org/zoneinfo/Europe/London
X-LIC-LOCATION:Europe/London
BEGIN:DAYLIGHT
TZOFFSETFROM:+0000
TZOFFSETTO:+0100
TZNAME:BST
DTSTART:20250330T020000Z
RRULE:FREQ=YEARLY;BYMONTH=3;BYDAY=-1SU
END:DAYLIGHT
BEGIN:STANDARD
TZOFFSETFROM:+0100
TZOFFSETTO:+0000
TZNAME:GMT
DTSTART:20251026T020000Z
RRULE:FREQ=YEARLY;BYMONTH=10;BYDAY=-1SU
END:STANDARD
END:VTIMEZONE
BEGIN:VEVENT
SUMMARY:#VAVS: Dan R. Morris (On-Demand - watch anytime over the 4 d
	ays)
DTSTAMP:20250918T203402Z
SEQUENCE:0
UID:1291-8-83882903247d20c85298d00b96b44978@www.vanetworking.com
ORGANIZER;CN="Tawnya Sutherland":help@vanetworking.com
DESCRIPTION:TOPIC: How To Be A VA for Podcasters\n\nSPEAKER: Dan R. Mo
	rris\n\nWHAT YOU'LL LEARN:\n\n\nWith the podcasting industry booming\, pod
	casters need more than just technical help—they need strategic support f
	rom Virtual Assistants who understand the unique demands of the medium. In
	 this session\, Dan R. Morris\, full-time podcaster and founder of Podcast
	er’s Kit\, reveals how VAs can support podcast clients in meaningful and
	 profitable ways.You’ll discover:What podcasters actually need help wi
	th (beyond editing)How to streamline their workflows and boost consistency
	Opportunities to expand your VA services in a growing nicheWays to make yo
	urself indispensable to podcasting clientsTips for finding and pitching po
	dcast hosts who need yourhelpIf you’re curious about supporting podcaste
	rs—or ready to niche down—this session will help you explore how to ge
	t started and stand out.Dan R. Morris – Founder of Podcaster’s Kit\, 
	BC Stack\, and Tracing The Path podcast\, Dan has worked full-time online 
	since 2013 alongside his wife\, Rachel Marie Martin.
DTSTART;VALUE=DATE:20251105
DTEND;VALUE=DATE:20251109
END:VEVENT
END:VCALENDAR
