BEGIN:VCALENDAR
VERSION:2.0
PRODID:-//InvisionCommunity Events 4.7.24//EN
METHOD:PUBLISH
CALSCALE:GREGORIAN
REFRESH-INTERVAL:PT15M
X-PUBLISHED-TTL:PT15M
X-WR-CALNAME:VANA Calendar
NAME:VANA Calendar
BEGIN:VTIMEZONE
TZID:Europe/London
TZURL:http://tzurl.org/zoneinfo/Europe/London
X-LIC-LOCATION:Europe/London
BEGIN:DAYLIGHT
TZOFFSETFROM:+0000
TZOFFSETTO:+0100
TZNAME:BST
DTSTART:20250330T020000Z
RRULE:FREQ=YEARLY;BYMONTH=3;BYDAY=-1SU
END:DAYLIGHT
BEGIN:STANDARD
TZOFFSETFROM:+0100
TZOFFSETTO:+0000
TZNAME:GMT
DTSTART:20251026T020000Z
RRULE:FREQ=YEARLY;BYMONTH=10;BYDAY=-1SU
END:STANDARD
END:VTIMEZONE
BEGIN:VEVENT
SUMMARY:#VAVS: Summit Wrap-Up (LIVE)
DTSTAMP:20250919T003402Z
SEQUENCE:1
UID:1292-8-83882903247d20c85298d00b96b44978@www.vanetworking.com
ORGANIZER;CN="Tawnya Sutherland":help@vanetworking.com
DESCRIPTION:&gt\;:&gt\;: Going to miss this one? No worries — grab a 
	VIP Pass and you’ll get the full replay\, notes\, and many more goodies 
	(yep\, $2000+ in Swag gifts!).\n🎟️ Grab a VIP Pass  \n\nTOPIC: Su
	mmit Wrap-Up: One Last Sip Before Your #VAVS Hangover\n\nSPEAKER: Tawnya 
	Sutherland\n\nWHAT YOU'LL LEARN:\nAfter three action-packed days of learni
	ng\, networking\, and aha moments… you might be feeling a little #VAVS 
	Hangover. 😉So grab your drink of choice—coffee\, tea\, mimosa\, or so
	mething stronger—and join host Tawnya Sutherland for our final live sess
	ion to wrap up the Summit and map out what’s next.During this casual (bu
	t helpful!) wrap-up\, you’ll:Reflect on your favorite sessions and bigge
	st takeawaysGet answers to any lingering questionsHear tips on putting you
	r new knowledge into actionLearn how to stay connected with our VANA commu
	nityDiscover your next steps to keep building momentum(Plus a few surprise
	s… you know us!)Whether you made every session or only caught a few\, th
	is is your chance to come full circle and leave feeling focused and inspir
	ed.Let’s shake off that VAVS hangover and head into October with a solid
	 plan. See you there!Tawnya Sutherland is a pioneering force in the virtu
	al assistance industry\, having founded Virtual Assistant Networking Assoc
	iation (VANA) tosupport and empower VAs since 2003.
DTSTART:20251108T000000Z
DTEND:20251108T010000Z
END:VEVENT
END:VCALENDAR
