BEGIN:VCALENDAR
VERSION:2.0
PRODID:-//InvisionCommunity Events 4.7.24//EN
METHOD:PUBLISH
CALSCALE:GREGORIAN
REFRESH-INTERVAL:PT15M
X-PUBLISHED-TTL:PT15M
X-WR-CALNAME:VANA Calendar
NAME:VANA Calendar
BEGIN:VTIMEZONE
TZID:Europe/London
TZURL:http://tzurl.org/zoneinfo/Europe/London
X-LIC-LOCATION:Europe/London
BEGIN:DAYLIGHT
TZOFFSETFROM:+0000
TZOFFSETTO:+0100
TZNAME:BST
DTSTART:20250330T020000Z
RRULE:FREQ=YEARLY;BYMONTH=3;BYDAY=-1SU
END:DAYLIGHT
BEGIN:STANDARD
TZOFFSETFROM:+0100
TZOFFSETTO:+0000
TZNAME:GMT
DTSTART:20251026T020000Z
RRULE:FREQ=YEARLY;BYMONTH=10;BYDAY=-1SU
END:STANDARD
END:VTIMEZONE
BEGIN:VEVENT
SUMMARY:#VAVS: Laura Briggs (LIVE)
DTSTAMP:20250919T003402Z
SEQUENCE:0
UID:1293-8-83882903247d20c85298d00b96b44978@www.vanetworking.com
ORGANIZER;CN="Tawnya Sutherland":help@vanetworking.com
DESCRIPTION:&gt\;:&gt\;: Going to miss this one? No worries — grab a 
	VIP Pass and you’ll get the full replay\, notes\, and many more goodies 
	(yep\, $2000+ in Swag gifts!).\n🎟️ Grab a VIP Pass  \n\nTOPIC: Si
	x-Figure Scaling – Solo vs. Agency Models 101\n\nSPEAKER: Laura Briggs\
	n\nWHAT YOU'LL LEARN:\nLooking to scale your VA business but not sure whic
	h path to take? In this session\, Laura Briggs breaks down the two most co
	mmon growth models—solo vs. agency—and helps you decide which one fits
	 your goals\, work style\, and vision.Understand the Options: Explore the
	 pros and cons of staying solo vs. building an agency.Match Your Model to 
	Your Mindset: Choose a growth path that aligns with your personality and 
	goals.Streamline for Success: Learn how to systematize your business no m
	atter which model you choose.Take Action with Confidence: Walk away with 
	practical tips and best practices from someone who’s done both.If you’
	re ready to grow but want clarity on how\, this session will point you in 
	the right direction.Laura Briggs – Author of five books\, including Six
	 Figure Freelancer\, and 3-time TEDx speaker\, freelancing since 2012.
DTSTART:20251107T230000Z
DTEND:20251108T000000Z
END:VEVENT
END:VCALENDAR
