BEGIN:VCALENDAR
VERSION:2.0
PRODID:-//InvisionCommunity Events 4.7.24//EN
METHOD:PUBLISH
CALSCALE:GREGORIAN
REFRESH-INTERVAL:PT15M
X-PUBLISHED-TTL:PT15M
X-WR-CALNAME:VANA Calendar
NAME:VANA Calendar
BEGIN:VTIMEZONE
TZID:Europe/London
TZURL:http://tzurl.org/zoneinfo/Europe/London
X-LIC-LOCATION:Europe/London
BEGIN:DAYLIGHT
TZOFFSETFROM:+0000
TZOFFSETTO:+0100
TZNAME:BST
DTSTART:20250330T020000Z
RRULE:FREQ=YEARLY;BYMONTH=3;BYDAY=-1SU
END:DAYLIGHT
BEGIN:STANDARD
TZOFFSETFROM:+0100
TZOFFSETTO:+0000
TZNAME:GMT
DTSTART:20251026T020000Z
RRULE:FREQ=YEARLY;BYMONTH=10;BYDAY=-1SU
END:STANDARD
END:VTIMEZONE
BEGIN:VEVENT
SUMMARY:#VAVS: Lisa Millar (LIVE)
DTSTAMP:20250919T003402Z
SEQUENCE:0
UID:1294-8-83882903247d20c85298d00b96b44978@www.vanetworking.com
ORGANIZER;CN="Tawnya Sutherland":help@vanetworking.com
DESCRIPTION:&gt\;:&gt\;: Going to miss this one? No worries — grab a 
	VIP Pass and you’ll get the full replay\, notes\, and many more goodies 
	(yep\, $2000+ in Swag gifts!).\n🎟️ Grab a VIP Pass  \n\nTOPIC: Ma
	rketing Copy Made Easy and Fast with AI\n\nSPEAKER: Lisa Millar\n\nWHAT Y
	OU'LL LEARN:\nWant to writegreat copy in half the time—without losing yo
	ur voice? In this hands-on session\, Lisa Millar shows you how to use Chat
	GPT to create high-quality marketing content for both you and your clients
	\, faster and easier than ever.Write Smarter\, Not Harder: Build outlines
	\, polish rough drafts\, and edit with ease.Repurpose Content Like a Pro:
	 Turn blog posts into social media\, emails\, and more.SEO Without the St
	ress: Use simple keyword strategies to boost visibility.Get Instant Resul
	ts: Take home ready-to-use prompts that save time and wow your clients.If
	 you want to speed up your writing process while keeping your content shar
	p\, this is one session you don’t want to miss.Lisa Millar – With 20+
	 yearssupporting small businesses and an MBA\, she helps entrepreneurs ful
	fill their business dreams.
DTSTART:20251107T210000Z
DTEND:20251107T220000Z
END:VEVENT
END:VCALENDAR
