BEGIN:VCALENDAR
VERSION:2.0
PRODID:-//InvisionCommunity Events 4.7.24//EN
METHOD:PUBLISH
CALSCALE:GREGORIAN
REFRESH-INTERVAL:PT15M
X-PUBLISHED-TTL:PT15M
X-WR-CALNAME:VANA Calendar
NAME:VANA Calendar
BEGIN:VTIMEZONE
TZID:Europe/London
TZURL:http://tzurl.org/zoneinfo/Europe/London
X-LIC-LOCATION:Europe/London
BEGIN:DAYLIGHT
TZOFFSETFROM:+0000
TZOFFSETTO:+0100
TZNAME:BST
DTSTART:20250330T020000Z
RRULE:FREQ=YEARLY;BYMONTH=3;BYDAY=-1SU
END:DAYLIGHT
BEGIN:STANDARD
TZOFFSETFROM:+0100
TZOFFSETTO:+0000
TZNAME:GMT
DTSTART:20251026T020000Z
RRULE:FREQ=YEARLY;BYMONTH=10;BYDAY=-1SU
END:STANDARD
END:VTIMEZONE
BEGIN:VEVENT
SUMMARY:#VAVS: Tammy Durden (LIVE)
DTSTAMP:20250919T003402Z
SEQUENCE:0
UID:1295-8-83882903247d20c85298d00b96b44978@www.vanetworking.com
ORGANIZER;CN="Tawnya Sutherland":help@vanetworking.com
DESCRIPTION:&gt\;:&gt\;: Going to miss this one? No worries — grab a 
	VIP Pass and you’ll get the full replay\, notes\, and many more goodies 
	(yep\, $2000+ in Swag gifts!).\n🎟️ Grab a VIP Pass  \n\nTOPIC: Bo
	ost Your Growth – Build Your Virtual Dream Team of Subcontractors\n\nSPE
	AKER: Tammy Durden\n\nWHAT YOU'LL LEARN:\nReady to grow beyond a one-pers
	on business? In this session\,Tammy Durden shares how to scale your online
	 service business by building your dream team of virtual subcontractors—
	and even laying the foundation for your own agency.Know When You’re Read
	y: Signs it’s time to start building a team.Find the Right People: Whe
	re to look for reliable\, skilled subcontractors.Vetting &amp\; Onboarding
	: Tips to screen candidates and bring them on smoothly.Create a Solid Tea
	m Culture: Set expectations\, delegate effectively\, and lead with confid
	ence.If you’ve been thinking about expanding but aren’t sure how to st
	art\, this session will show you how to grow smarter—not just bigger.Tam
	my Durden – Award-winning business coach with 17+ years helping women d
	esign lifestyle-friendly businesses that thrive without sacrificing life b
	alance.
DTSTART:20251107T190000Z
DTEND:20251107T200000Z
END:VEVENT
END:VCALENDAR
