BEGIN:VCALENDAR
VERSION:2.0
PRODID:-//InvisionCommunity Events 4.7.24//EN
METHOD:PUBLISH
CALSCALE:GREGORIAN
REFRESH-INTERVAL:PT15M
X-PUBLISHED-TTL:PT15M
X-WR-CALNAME:VANA Calendar
NAME:VANA Calendar
BEGIN:VTIMEZONE
TZID:Europe/London
TZURL:http://tzurl.org/zoneinfo/Europe/London
X-LIC-LOCATION:Europe/London
BEGIN:DAYLIGHT
TZOFFSETFROM:+0000
TZOFFSETTO:+0100
TZNAME:BST
DTSTART:20250330T020000Z
RRULE:FREQ=YEARLY;BYMONTH=3;BYDAY=-1SU
END:DAYLIGHT
BEGIN:STANDARD
TZOFFSETFROM:+0100
TZOFFSETTO:+0000
TZNAME:GMT
DTSTART:20251026T020000Z
RRULE:FREQ=YEARLY;BYMONTH=10;BYDAY=-1SU
END:STANDARD
END:VTIMEZONE
BEGIN:VEVENT
SUMMARY:#VAVS: Kinshasia Johnson (LIVE)
DTSTAMP:20250919T003402Z
SEQUENCE:0
UID:1296-8-83882903247d20c85298d00b96b44978@www.vanetworking.com
ORGANIZER;CN="Tawnya Sutherland":help@vanetworking.com
DESCRIPTION:&gt\;:&gt\;: Going to miss this one? No worries — grab a 
	VIP Pass and you’ll get the full replay\, notes\, and many more goodies 
	(yep\, $2000+ in Swag gifts!).\n🎟️ Grab a VIP Pass  \n\nTOPIC: Fr
	om Clicks to Clients – How to Attract and Retain Your Ideal Clients on F
	iverr\n\nSPEAKER: Kinshasia Johnson\n\nWHAT YOU'LL LEARN:\nWant to turn y
	our Fiverr traffic into loyal\, long-term clients? In this sponsor session
	\, Kinshasia Johnson—Fiverr TopRated Seller and 8-year veteran—shares 
	real-world strategies to help you stand out\, get booked\, and keep client
	s coming back.Optimize Your Profile: Position your Fiverr services to att
	ract high-quality clients.Convert Clicks into Clients: Use proven methods
	 to turn visibility into paying work.Boost Client Loyalty: Apply simple r
	etention techniques to encourage repeat business.Think Like a Partner\, No
	t Just a Freelancer: Learn the mindset and practices that set you apart.T
	his insider session goes beyond landing one-offgigs—it’s about buildin
	g sustainable freelance success on Fiverr with clients who return again an
	d again.Kinshasia Johnson – Virtual Executive Assistant\, Fiverr Top Ra
	ted Seller\,and mentor guiding freelancers to attract clients\, optimize p
	rofiles\, and build sustainable businesses.
DTSTART:20251107T170000Z
DTEND:20251107T180000Z
END:VEVENT
END:VCALENDAR
