BEGIN:VCALENDAR
VERSION:2.0
PRODID:-//InvisionCommunity Events 4.7.24//EN
METHOD:PUBLISH
CALSCALE:GREGORIAN
REFRESH-INTERVAL:PT15M
X-PUBLISHED-TTL:PT15M
X-WR-CALNAME:VANA Calendar
NAME:VANA Calendar
BEGIN:VTIMEZONE
TZID:Europe/London
TZURL:http://tzurl.org/zoneinfo/Europe/London
X-LIC-LOCATION:Europe/London
BEGIN:DAYLIGHT
TZOFFSETFROM:+0000
TZOFFSETTO:+0100
TZNAME:BST
DTSTART:20250330T020000Z
RRULE:FREQ=YEARLY;BYMONTH=3;BYDAY=-1SU
END:DAYLIGHT
BEGIN:STANDARD
TZOFFSETFROM:+0100
TZOFFSETTO:+0000
TZNAME:GMT
DTSTART:20251026T020000Z
RRULE:FREQ=YEARLY;BYMONTH=10;BYDAY=-1SU
END:STANDARD
END:VTIMEZONE
BEGIN:VEVENT
SUMMARY:#VAVS: Lyn Prowse-Bishop (LIVE)
DTSTAMP:20250919T003402Z
SEQUENCE:0
UID:1297-8-83882903247d20c85298d00b96b44978@www.vanetworking.com
ORGANIZER;CN="Tawnya Sutherland":help@vanetworking.com
DESCRIPTION:&gt\;:&gt\;: Going to miss this one? No worries — grab a 
	VIP Pass and you’ll get the full replay\, notes\, and many more goodies 
	(yep\, $2000+ in Swag gifts!).\n🎟️ Grab a VIP Pass  \n\nTOPIC: Tu
	rning Clients Into Long-Term Partners – A Loyalty Toolkit\n\nSPEAKER: L
	yn Prowse-Bishop\n\nWHAT YOU'LL LEARN:\nSkills might get you hired\, but i
	t’s the service experience that keeps clients coming back. In this sessi
	on\, Lyn Prowse-Bishop shares the7 pillars of customer loyalty that turn o
	ne-off projects into lasting partnerships.Build Trust with Proactive Commu
	nication: Stay ahead of client needs with clear\, consistent updates.Deli
	ver with Reliability: Learn why dependability is the foundation of client
	 retention.Personalize the Experience: Make clients feel seen\, heard\, a
	nd appreciated.Solve Problems Before They Escalate: Handle issues with pr
	ofessionalism and ease.Show Appreciation: Small gestures go a long way in
	 building loyalty.If you’re ready to go beyond task-doer and become a lo
	ng-term partner your clients can’t live without\, this session is for yo
	u.Lyn Prowse-Bishop – Founder of eSOS and Australia’s first VA podcas
	ter\, Lyn is a global VA advocate\, speaker\, and industry pioneer.
DTSTART:20251106T230000Z
DTEND:20251107T000000Z
END:VEVENT
END:VCALENDAR
