BEGIN:VCALENDAR
VERSION:2.0
PRODID:-//InvisionCommunity Events 4.7.24//EN
METHOD:PUBLISH
CALSCALE:GREGORIAN
REFRESH-INTERVAL:PT15M
X-PUBLISHED-TTL:PT15M
X-WR-CALNAME:VANA Calendar
NAME:VANA Calendar
BEGIN:VTIMEZONE
TZID:Europe/London
TZURL:http://tzurl.org/zoneinfo/Europe/London
X-LIC-LOCATION:Europe/London
BEGIN:DAYLIGHT
TZOFFSETFROM:+0000
TZOFFSETTO:+0100
TZNAME:BST
DTSTART:20250330T020000Z
RRULE:FREQ=YEARLY;BYMONTH=3;BYDAY=-1SU
END:DAYLIGHT
BEGIN:STANDARD
TZOFFSETFROM:+0100
TZOFFSETTO:+0000
TZNAME:GMT
DTSTART:20251026T020000Z
RRULE:FREQ=YEARLY;BYMONTH=10;BYDAY=-1SU
END:STANDARD
END:VTIMEZONE
BEGIN:VEVENT
SUMMARY:#VAVS: Stephanie Hayes (LIVE)
DTSTAMP:20250919T003402Z
SEQUENCE:0
UID:1298-8-83882903247d20c85298d00b96b44978@www.vanetworking.com
ORGANIZER;CN="Tawnya Sutherland":help@vanetworking.com
DESCRIPTION:&gt\;:&gt\;: Going to miss this one? No worries — grab a 
	VIP Pass and you’ll get the full replay\, notes\, and many more goodies 
	(yep\, $2000+ in Swag gifts!).\n🎟️ Grab a VIP Pass  \n\nTOPIC: Th
	e Confidence Gap: Why Clients Say Yes (Even When YouDon’t Feel Ready)\n\
	nSPEAKER: Stephanie Hayes\n\nWHAT YOU'LL LEARN:\nIf you’ve ever delayed
	 pitching\, raising your rates\, or taking that next step because you didn
	’t feel “ready\,” this session will change the way you think about c
	onfidence. Stephanie Hayes breaks down the hidden factors that influence c
	lient decisions—and why your presence and clarity matter more than any c
	ertification or polished resume.You’ll learn:What really makes clients s
	ay yes (hint: it’s not perfection)How to project confidence even when 
	you’re second-guessing yourselfSimple mindset shifts that help you show 
	up powerfully andattract aligned clientsIf imposter syndrome has been hold
	ing you back\, this session will help you move forward anyway—with confi
	dence and clarity.Stephanie Hayes – Owner of Fully Booked VA and head c
	oach of the FBVA Community\, Stephanie is a seasoned business strategist w
	ho’s spent 20+ years helping entrepreneurs build independent\, fulfillin
	g businesses.
DTSTART:20251106T210000Z
DTEND:20251106T220000Z
END:VEVENT
END:VCALENDAR
