BEGIN:VCALENDAR
VERSION:2.0
PRODID:-//InvisionCommunity Events 4.7.24//EN
METHOD:PUBLISH
CALSCALE:GREGORIAN
REFRESH-INTERVAL:PT15M
X-PUBLISHED-TTL:PT15M
X-WR-CALNAME:VANA Calendar
NAME:VANA Calendar
BEGIN:VTIMEZONE
TZID:Europe/London
TZURL:http://tzurl.org/zoneinfo/Europe/London
X-LIC-LOCATION:Europe/London
BEGIN:DAYLIGHT
TZOFFSETFROM:+0000
TZOFFSETTO:+0100
TZNAME:BST
DTSTART:20250330T020000Z
RRULE:FREQ=YEARLY;BYMONTH=3;BYDAY=-1SU
END:DAYLIGHT
BEGIN:STANDARD
TZOFFSETFROM:+0100
TZOFFSETTO:+0000
TZNAME:GMT
DTSTART:20251026T020000Z
RRULE:FREQ=YEARLY;BYMONTH=10;BYDAY=-1SU
END:STANDARD
END:VTIMEZONE
BEGIN:VEVENT
SUMMARY:#VAVS: Angela Wills (LIVE)
DTSTAMP:20250919T003402Z
SEQUENCE:0
UID:1299-8-83882903247d20c85298d00b96b44978@www.vanetworking.com
ORGANIZER;CN="Tawnya Sutherland":help@vanetworking.com
DESCRIPTION:&gt\;:&gt\;: Going to miss this one? No worries — grab a 
	VIP Pass and you’ll get the full replay\, notes\, and many more goodies 
	(yep\, $2000+ in Swag gifts!).\n🎟️ Grab a VIP Pass  \n\nTOPIC: Tu
	rn Your Website into a Client Attracting Tool!\n\nSPEAKER: Angela Wills 
	\n\nWHAT YOU'LL LEARN:\nWordof mouth only takes you so far—your website 
	should be working 24/7 to bring in your dream clients. In this session\, A
	ngela Wills shares how to transform your website into a powerful lead-gene
	ration machine that attracts theright people and filters out the wrong one
	s.You’ll learn:The must-have elements every client-attracting site needs
	What toinclude (and what to ditch) to convert browsers into buyersSEO basi
	cs that help your site get found—without tech overwhelmTips to align you
	r website with the clients you want to work withWhether you’re just st
	arting out or your site needs a refresh\, this session will help you turn 
	it into your #1 marketing asset.Angela Wills – A multi-passionate entre
	preneur since 2002\, Angela is the founder of Dellia Web Design\, helping 
	service-based businesses create client-attracting websites that work hard 
	behindthe scenes.
DTSTART:20251106T190000Z
DTEND:20251106T200000Z
END:VEVENT
END:VCALENDAR
