BEGIN:VCALENDAR
VERSION:2.0
PRODID:-//InvisionCommunity Events 4.7.24//EN
METHOD:PUBLISH
CALSCALE:GREGORIAN
REFRESH-INTERVAL:PT15M
X-PUBLISHED-TTL:PT15M
X-WR-CALNAME:VANA Calendar
NAME:VANA Calendar
BEGIN:VTIMEZONE
TZID:Europe/London
TZURL:http://tzurl.org/zoneinfo/Europe/London
X-LIC-LOCATION:Europe/London
BEGIN:DAYLIGHT
TZOFFSETFROM:+0000
TZOFFSETTO:+0100
TZNAME:BST
DTSTART:20250330T020000Z
RRULE:FREQ=YEARLY;BYMONTH=3;BYDAY=-1SU
END:DAYLIGHT
BEGIN:STANDARD
TZOFFSETFROM:+0100
TZOFFSETTO:+0000
TZNAME:GMT
DTSTART:20251026T020000Z
RRULE:FREQ=YEARLY;BYMONTH=10;BYDAY=-1SU
END:STANDARD
END:VTIMEZONE
BEGIN:VEVENT
SUMMARY:#VAVS: Tracey D'Aviero (LIVE)
DTSTAMP:20250919T003402Z
SEQUENCE:0
UID:1300-8-83882903247d20c85298d00b96b44978@www.vanetworking.com
ORGANIZER;CN="Tawnya Sutherland":help@vanetworking.com
DESCRIPTION:&gt\;:&gt\;: Going to miss this one? No worries — grab a 
	VIP Pass and you’ll get the full replay\, notes\, and many more goodies 
	(yep\, $2000+ in Swag gifts!).\n🎟️ Grab a VIP Pass  \n\nTOPIC: Ho
	w Communication and Boundaries Help You Uplevel Your VA Services and Clien
	ts\n\nSPEAKER: Tracey D'Aviero\n\nWHAT YOU'LL LEARN:\nAs your VA business
	 grows\, so should your communication and boundaries. In this empowering s
	ession\, Tracey D’Aviero shares how confident communication helps positi
	on you as a trusted professional and attract higher-level clients who valu
	e your expertise.You’ll learn:How to speak with confidence to elevate yo
	ur professional presenceBoundaries that protect your time\, energy\, and v
	aluePractical ways to attract and retain clients who respect your worthIf 
	you’re ready to move beyond “just a VA” and become a respected servi
	ce provider\, don’t miss this session.Tracey D’Aviero – The Confide
	nce Coach for Virtual Assistants\, Tracey helps VAs grow strong businesses
	 with clarity\, confidence\, and client-attracting strategies.
DTSTART:20251106T170000Z
DTEND:20251106T180000Z
END:VEVENT
END:VCALENDAR
