BEGIN:VCALENDAR
VERSION:2.0
PRODID:-//InvisionCommunity Events 4.7.24//EN
METHOD:PUBLISH
CALSCALE:GREGORIAN
REFRESH-INTERVAL:PT15M
X-PUBLISHED-TTL:PT15M
X-WR-CALNAME:VANA Calendar
NAME:VANA Calendar
BEGIN:VTIMEZONE
TZID:Europe/London
TZURL:http://tzurl.org/zoneinfo/Europe/London
X-LIC-LOCATION:Europe/London
BEGIN:DAYLIGHT
TZOFFSETFROM:+0000
TZOFFSETTO:+0100
TZNAME:BST
DTSTART:20250330T020000Z
RRULE:FREQ=YEARLY;BYMONTH=3;BYDAY=-1SU
END:DAYLIGHT
BEGIN:STANDARD
TZOFFSETFROM:+0100
TZOFFSETTO:+0000
TZNAME:GMT
DTSTART:20251026T020000Z
RRULE:FREQ=YEARLY;BYMONTH=10;BYDAY=-1SU
END:STANDARD
END:VTIMEZONE
BEGIN:VEVENT
SUMMARY:#VAVS: Belinda Sandor (LIVE)
DTSTAMP:20250919T003402Z
SEQUENCE:0
UID:1301-8-83882903247d20c85298d00b96b44978@www.vanetworking.com
ORGANIZER;CN="Tawnya Sutherland":help@vanetworking.com
DESCRIPTION:&gt\;:&gt\;: Going to miss this one? No worries — grab a 
	VIP Pass and you’ll get the full replay\, notes\, and many more goodies 
	(yep\, $2000+ in Swag gifts!).\n🎟️ Grab a VIP Pass  \n\nTOPIC: Th
	e #1 Way I Got Clients (and How You Can Too)\n\nSPEAKER: Belinda Sandor\n
	\nWHAT YOU'LL LEARN:\nTired of mismatchedclients and awkward consults? In 
	this honest (and slightly entertaining) session\, Cathy Baillargeon shares
	 how asking the right questions helped herbuild a 7-figure VA agency—and
	 how you can do the same.Build Instant Trust: What to say (and avoid) in 
	consults to set expectations and build rapport.Screen for Compatibility: 
	Ask the questions that reveal how clients think\, work\, and whether the
	y’re a long-term fit.Spot Red Flags Early: Learn the signs of high-dram
	a or short-term clients and how to respond professionally.Shift Your Minds
	et: Move from “I hope they hire me” to “Are we the right fit?”I
	f you’re ready to save time\, protect your sanity\, and work with client
	s who get you—don’t miss this one.Belinda Sandor – VA veteran and
	 founder of The VA Connection®\, she’s supported 60\,000+ members in la
	unching and growing profitable VA businesses since 2019.
DTSTART:20251105T230000Z
DTEND:20251106T000000Z
END:VEVENT
END:VCALENDAR
