BEGIN:VCALENDAR
VERSION:2.0
PRODID:-//InvisionCommunity Events 4.7.24//EN
METHOD:PUBLISH
CALSCALE:GREGORIAN
REFRESH-INTERVAL:PT15M
X-PUBLISHED-TTL:PT15M
X-WR-CALNAME:VANA Calendar
NAME:VANA Calendar
BEGIN:VTIMEZONE
TZID:Europe/London
TZURL:http://tzurl.org/zoneinfo/Europe/London
X-LIC-LOCATION:Europe/London
BEGIN:DAYLIGHT
TZOFFSETFROM:+0000
TZOFFSETTO:+0100
TZNAME:BST
DTSTART:20250330T020000Z
RRULE:FREQ=YEARLY;BYMONTH=3;BYDAY=-1SU
END:DAYLIGHT
BEGIN:STANDARD
TZOFFSETFROM:+0100
TZOFFSETTO:+0000
TZNAME:GMT
DTSTART:20251026T020000Z
RRULE:FREQ=YEARLY;BYMONTH=10;BYDAY=-1SU
END:STANDARD
END:VTIMEZONE
BEGIN:VEVENT
SUMMARY:#VAVS: Cathy Baillargeon (LIVE)
DTSTAMP:20250919T003402Z
SEQUENCE:1
UID:1303-8-83882903247d20c85298d00b96b44978@www.vanetworking.com
ORGANIZER;CN="Tawnya Sutherland":help@vanetworking.com
DESCRIPTION:\n&gt\;:&gt\;: Going to miss this one? No worries — grab 
	a VIP Pass and you’ll get the full replay\, notes\, and manymore goodies
	 (yep\, $2000+ in Swag gifts!).\n🎟️ Grab a VIP Pass  \n\nTOPIC: C
	lient Chemistry 101 – The Questions That Save You Time\, Trouble\, and Y
	our Sanity\n\nSPEAKER: Cathy Baillargeon\n\nWHAT YOU'LL LEARN:\nTired of 
	mismatched clients and awkward consults? In this honest (and slightly ente
	rtaining) session\, Cathy Baillargeon shares how asking the right question
	s helped her build a 7-figure VA agency—and how you can dothe same.Build
	 Instant Trust: What to say (and avoid) in consults to set expectations a
	nd build rapport.Screen for Compatibility: Ask the questions that reveal 
	how clients think\, work\, and whether they’re a long-term fit.Spot Red 
	Flags Early: Learn the signs of high-drama or short-term clients and how 
	to respond professionally.Shift Your Mindset: Move from “I hope they hi
	re me” to “Are we the right fit?”If you’re ready to save time\, pr
	otect your sanity\, and work with clients who get you—don’t miss thi
	s one.Cathy Baillargeon is Founder of Virtual Cathy and Cathy B Academy\,
	 she supports business owners with VA services while helping aspiring VAs 
	launch and grow successful businesses.
DTSTART:20251105T190000Z
DTEND:20251105T200000Z
END:VEVENT
END:VCALENDAR
