BEGIN:VCALENDAR
VERSION:2.0
PRODID:-//InvisionCommunity Events 4.7.24//EN
METHOD:PUBLISH
CALSCALE:GREGORIAN
REFRESH-INTERVAL:PT15M
X-PUBLISHED-TTL:PT15M
X-WR-CALNAME:VANA Calendar
NAME:VANA Calendar
BEGIN:VTIMEZONE
TZID:Europe/London
TZURL:http://tzurl.org/zoneinfo/Europe/London
X-LIC-LOCATION:Europe/London
BEGIN:DAYLIGHT
TZOFFSETFROM:+0000
TZOFFSETTO:+0100
TZNAME:BST
DTSTART:20250330T020000Z
RRULE:FREQ=YEARLY;BYMONTH=3;BYDAY=-1SU
END:DAYLIGHT
BEGIN:STANDARD
TZOFFSETFROM:+0100
TZOFFSETTO:+0000
TZNAME:GMT
DTSTART:20251026T020000Z
RRULE:FREQ=YEARLY;BYMONTH=10;BYDAY=-1SU
END:STANDARD
END:VTIMEZONE
BEGIN:VEVENT
SUMMARY:#VAVS: Tawnya Sutherland (LIVE)
DTSTAMP:20250919T003402Z
SEQUENCE:0
UID:1304-8-83882903247d20c85298d00b96b44978@www.vanetworking.com
ORGANIZER;CN="Tawnya Sutherland":help@vanetworking.com
DESCRIPTION:\n&gt\;:&gt\;: Going to miss this one? No worries— grab a
	 VIP Pass and you’ll get the full replay\, notes\, and many more goodies
	 (yep\, $2000+ in Swag gifts!).\n🎟️ Grab a VIP Pass  \nTOPIC: AI-P
	owered Strategies to Discover Your Next ClientSPEAKER: Tawnya SutherlandWH
	AT YOU'LL LEARN:Struggling to find clients? It’s time to work smarter—
	not harder. In this session\, Tawnya will show you how to harness the powe
	r of AI to attract\, engage\, and convert your ideal clients more efficien
	tly than ever.Understand AI in Plain Terms: Learn how AI fits into modern
	 client acquisition strategies.Explore Top Tools &amp\; Prompts: Discover
	 AI platforms and prompts (including 200+ ideas) that can help you grow.Se
	e ChatGPT in Action: Get a live demo of ChatGPT to see how it can streaml
	ine your outreach.Future-Proof YourBusiness: Learn about upcoming trends 
	and how to stay ahead of the curve.Whether you’re starting from scratch 
	or scaling up\, this session will give you practical tools and a tech-forw
	ard mindset todiscover your next client faster—with AI by your side.Tawn
	ya Sutherland – Industry pioneer and founder ofthe Virtual Assistant Ne
	tworking Association (VANA)\, she has championed virtual assistants with r
	esources\, training\, and community since 2003.
DTSTART:20251105T170000Z
DTEND:20251105T180000Z
END:VEVENT
END:VCALENDAR
