BEGIN:VCALENDAR
VERSION:2.0
PRODID:-//InvisionCommunity Events 4.7.24//EN
METHOD:PUBLISH
CALSCALE:GREGORIAN
REFRESH-INTERVAL:PT15M
X-PUBLISHED-TTL:PT15M
X-WR-CALNAME:VANA Calendar
NAME:VANA Calendar
BEGIN:VTIMEZONE
TZID:Europe/London
TZURL:http://tzurl.org/zoneinfo/Europe/London
X-LIC-LOCATION:Europe/London
BEGIN:DAYLIGHT
TZOFFSETFROM:+0000
TZOFFSETTO:+0100
TZNAME:BST
DTSTART:20250330T020000Z
RRULE:FREQ=YEARLY;BYMONTH=3;BYDAY=-1SU
END:DAYLIGHT
BEGIN:STANDARD
TZOFFSETFROM:+0100
TZOFFSETTO:+0000
TZNAME:GMT
DTSTART:20251026T020000Z
RRULE:FREQ=YEARLY;BYMONTH=10;BYDAY=-1SU
END:STANDARD
END:VTIMEZONE
BEGIN:VEVENT
SUMMARY:#VAVS: Dan R. Morris (On-demand replay available until Nov. 
	7th\, 4PM PT)
DTSTAMP:20250919T003402Z
SEQUENCE:0
UID:1305-8-83882903247d20c85298d00b96b44978@www.vanetworking.com
ORGANIZER;CN="Tawnya Sutherland":help@vanetworking.com
DESCRIPTION:&gt\;:&gt\;: Going to miss this one? No worries — grab a 
	VIP Pass and you’ll get the full replay\, notes\, and many more goodies 
	(yep\, $2000+ in Swag gifts!).\n🎟️ Grab a VIP Pass  \n\nTOPIC: Ho
	w To Be A VA for Podcasters\n\nSPEAKER: Dan R. Morris\n\nWHAT YOU'LL LEARN
	:\nWith the podcasting industry booming\, podcasters need more than just t
	echnical help—they need strategic support from Virtual Assistants who un
	derstand the unique demands ofthe medium. In this session\, Dan R. Morris\
	, full-time podcaster and founder of Podcaster’s Kit\, reveals how VAs c
	an support podcast clients in meaningful and profitable ways.You’ll disc
	over:What podcasters actually need help with (beyond editing)How to stre
	amline their workflows and boost consistencyOpportunities to expand your V
	A services in a growing nicheWays to make yourself indispensable to podcas
	ting clientsTips for finding and pitching podcast hosts who need your help
	If you’re curious about supporting podcasters—or ready to niche down
	—thissession will help you explore how to get started and stand out.Dan 
	R. Morris – Founder of Podcaster’s Kit\, BC Stack\, and Tracing The P
	ath podcast\, Dan has worked full-time online since 2013 alongside his wif
	e\, Rachel Marie Martin.
DTSTART;VALUE=DATE:20251105
DTEND;VALUE=DATE:20251108
END:VEVENT
END:VCALENDAR
