BEGIN:VCALENDAR
VERSION:2.0
PRODID:-//InvisionCommunity Events 4.7.24//EN
METHOD:PUBLISH
CALSCALE:GREGORIAN
REFRESH-INTERVAL:PT15M
X-PUBLISHED-TTL:PT15M
X-WR-CALNAME:VANA Calendar
NAME:VANA Calendar
BEGIN:VTIMEZONE
TZID:Europe/London
TZURL:http://tzurl.org/zoneinfo/Europe/London
X-LIC-LOCATION:Europe/London
BEGIN:DAYLIGHT
TZOFFSETFROM:+0000
TZOFFSETTO:+0100
TZNAME:BST
DTSTART:20250330T020000Z
RRULE:FREQ=YEARLY;BYMONTH=3;BYDAY=-1SU
END:DAYLIGHT
BEGIN:STANDARD
TZOFFSETFROM:+0100
TZOFFSETTO:+0000
TZNAME:GMT
DTSTART:20251026T020000Z
RRULE:FREQ=YEARLY;BYMONTH=10;BYDAY=-1SU
END:STANDARD
END:VTIMEZONE
BEGIN:VEVENT
SUMMARY:#VAVS: Debbie Rocket (On-demand replay available until Nov. 
	7th\, 4PM PT)
DTSTAMP:20250919T003402Z
SEQUENCE:0
UID:1306-8-83882903247d20c85298d00b96b44978@www.vanetworking.com
ORGANIZER;CN="Tawnya Sutherland":help@vanetworking.com
DESCRIPTION:&gt\;:&gt\;: Going to miss this one? No worries — grab a 
	VIP Pass and you’ll get the full replay\, notes\, and many more goodies 
	(yep\, $2000+ in Swag gifts!).\n🎟️ Grab a VIP Pass  \n\nTOPIC: St
	op Charging Hourly: Price with Confidence\n\nSPEAKER: Debbie Rocket\n\nWH
	AT YOU'LL LEARN:\nStill stuck trading time for money? Many VAs underprice 
	their services\, unintentionally capping their income and burning out in t
	he process. In this session\,Debbie Rocket shares how to confidently move 
	away from hourly billing and start charging for the value you bring.Yo
	u’ll learn how to:Shift from hourly rates to premium packages and retain
	ersPrice your services strategically (without second-guessing yourself)Att
	ract aligned clients who appreciate your worthBuild income stability with 
	recurring revenueAvoid the most common pricing mistakes VAs makeIf you’r
	e ready to stop undervaluing your work and finally price like a pro\, this
	 session will give you the roadmap.Debbie Rocket – Certified OBM® and 
	founder of The ROCKET VA™ Academy\,she trains VAs in strategy\, systems\
	, and branding to attract dream clients.
DTSTART;VALUE=DATE:20251105
DTEND;VALUE=DATE:20251108
END:VEVENT
END:VCALENDAR
