BEGIN:VCALENDAR
VERSION:2.0
PRODID:-//InvisionCommunity Events 4.7.24//EN
METHOD:PUBLISH
CALSCALE:GREGORIAN
REFRESH-INTERVAL:PT15M
X-PUBLISHED-TTL:PT15M
X-WR-CALNAME:VANA Calendar
NAME:VANA Calendar
BEGIN:VTIMEZONE
TZID:Europe/London
TZURL:http://tzurl.org/zoneinfo/Europe/London
X-LIC-LOCATION:Europe/London
BEGIN:DAYLIGHT
TZOFFSETFROM:+0000
TZOFFSETTO:+0100
TZNAME:BST
DTSTART:20250330T020000Z
RRULE:FREQ=YEARLY;BYMONTH=3;BYDAY=-1SU
END:DAYLIGHT
BEGIN:STANDARD
TZOFFSETFROM:+0100
TZOFFSETTO:+0000
TZNAME:GMT
DTSTART:20251026T020000Z
RRULE:FREQ=YEARLY;BYMONTH=10;BYDAY=-1SU
END:STANDARD
END:VTIMEZONE
BEGIN:VEVENT
SUMMARY:#VAVS: Doreen DeJesus-Harper (On-demand replay available unt
	il Nov.7th\, 4 PM PT)
DTSTAMP:20250919T003402Z
SEQUENCE:0
UID:1307-8-83882903247d20c85298d00b96b44978@www.vanetworking.com
ORGANIZER;CN="Tawnya Sutherland":help@vanetworking.com
DESCRIPTION:&amp\;gt:&amp\;gt: Going to miss this one? No worries — g
	rab a VIP Pass and you’ll get the full replay\, notes\, and many more go
	odies (yep\, $2000+ in Swag gifts!).\n🎟️ Grab a VIP Pass  \n\nTOP
	IC: Future-Proof Your VA Business: Master the Skills Clients Actually Wan
	t\n\nSPEAKER: Doreen DeJesus-Harper\n\nWHAT YOU'LL LEARN:\nClients’ nee
	ds are evolving—are your skills keeping up? In this forward-looking sess
	ion\, Doreen DeJesus-Harper shows you how to stay relevant\, in-demand\, a
	nd indispensable in today’s fast-changingonline business world.You’ll 
	learn how to:Identify high-demand skills clients are actively seekingUpgra
	de and showcase your expertise with confidenceAnticipate market shifts to 
	stay ahead of the curvePosition yourself as a long-term partner—not just
	 a service provider\nWhether you’re brand new or a seasoned pro\, you’
	ll walk away with practical strategies to strengthen your business and sta
	y booked solid.Doreen DeJesus-Harper – Coach and consultant empowering 
	authors\,speakers\, and solopreneurs to scale with operational support\, m
	ultimediaservices\, and growth-focused partnerships.
DTSTART;VALUE=DATE:20251105
DTEND;VALUE=DATE:20251108
END:VEVENT
END:VCALENDAR
