BEGIN:VCALENDAR
VERSION:2.0
PRODID:-//InvisionCommunity Events 4.7.24//EN
METHOD:PUBLISH
CALSCALE:GREGORIAN
REFRESH-INTERVAL:PT15M
X-PUBLISHED-TTL:PT15M
X-WR-CALNAME:VANA Calendar
NAME:VANA Calendar
BEGIN:VTIMEZONE
TZID:Europe/London
TZURL:http://tzurl.org/zoneinfo/Europe/London
X-LIC-LOCATION:Europe/London
BEGIN:DAYLIGHT
TZOFFSETFROM:+0000
TZOFFSETTO:+0100
TZNAME:BST
DTSTART:20250330T020000Z
RRULE:FREQ=YEARLY;BYMONTH=3;BYDAY=-1SU
END:DAYLIGHT
BEGIN:STANDARD
TZOFFSETFROM:+0100
TZOFFSETTO:+0000
TZNAME:GMT
DTSTART:20251026T020000Z
RRULE:FREQ=YEARLY;BYMONTH=10;BYDAY=-1SU
END:STANDARD
END:VTIMEZONE
BEGIN:VEVENT
SUMMARY:#VAVS: Gina Koran (On-demand replay available until Nov. 7th
	\, 4 PMPT)
DTSTAMP:20250919T003402Z
SEQUENCE:0
UID:1308-8-83882903247d20c85298d00b96b44978@www.vanetworking.com
ORGANIZER;CN="Tawnya Sutherland":help@vanetworking.com
DESCRIPTION:&gt\;:&gt\;: Going to miss this one? No worries — grab a 
	VIP Pass and you’ll get the full replay\, notes\, and many more goodies 
	(yep\, $2000+ in Swag gifts!).\n🎟️ Grab a VIP Pass  \n\nTOPIC: Th
	e Coffee Shop Test: How to Create Content That MakesClients Say “She Get
	s Me!”\n\nSPEAKER: Gina Koran\n\nWHAT YOU'LL LEARN:\nTired of throwing 
	content at the wall and hoping something sticks? In this down-to-earth (an
	d highly caffeinated) session\, Gina Koran shares how to stop overthinking
	 your content and start connecting with the people who actually want to hi
	re you.You’ll learn how to:Understand your audience beyond surface-level
	 demographicsFind and use your authentic voice (quirks welcome!)Create con
	tent that feels effortless\, not forcedAvoid the clickbait trap and write 
	content that builds trustPass the “coffee shop test” with content that
	 sounds like you\nWhether you’re writing for yourself or your clients\, 
	you’ll walk away with a clearer strategy and content that finally resona
	tes.Gina Koran – Air Force veteran and owner of GinAdmin and The Conten
	t Creation Hub\, she shares coffee-fueled content strategies for small bus
	iness owners. 
DTSTART;VALUE=DATE:20251105
DTEND;VALUE=DATE:20251108
END:VEVENT
END:VCALENDAR
