BEGIN:VCALENDAR
VERSION:2.0
PRODID:-//InvisionCommunity Events 4.7.24//EN
METHOD:PUBLISH
CALSCALE:GREGORIAN
REFRESH-INTERVAL:PT15M
X-PUBLISHED-TTL:PT15M
X-WR-CALNAME:VANA Calendar
NAME:VANA Calendar
BEGIN:VTIMEZONE
TZID:Europe/London
TZURL:http://tzurl.org/zoneinfo/Europe/London
X-LIC-LOCATION:Europe/London
BEGIN:DAYLIGHT
TZOFFSETFROM:+0000
TZOFFSETTO:+0100
TZNAME:BST
DTSTART:20250330T020000Z
RRULE:FREQ=YEARLY;BYMONTH=3;BYDAY=-1SU
END:DAYLIGHT
BEGIN:STANDARD
TZOFFSETFROM:+0100
TZOFFSETTO:+0000
TZNAME:GMT
DTSTART:20251026T020000Z
RRULE:FREQ=YEARLY;BYMONTH=10;BYDAY=-1SU
END:STANDARD
END:VTIMEZONE
BEGIN:VEVENT
SUMMARY:#VAVS: Gwen Backhouse (On-demand replay available until Nov.
	 7th\, 4 PM PT)
DTSTAMP:20250919T003402Z
SEQUENCE:0
UID:1309-8-83882903247d20c85298d00b96b44978@www.vanetworking.com
ORGANIZER;CN="Tawnya Sutherland":help@vanetworking.com
DESCRIPTION:&gt\;:&gt\;: Going to miss this one? No worries — grab a 
	VIP Pass and you’ll get the full replay\, notes\, and many more goodies 
	(yep\, $2000+ in Swag gifts!).\n🎟️ Grab a VIP Pass  \n\nTOPIC: St
	and Out from the Crowd: Top Tips for Every Stage of Your VA Journey\n\nSPE
	AKER: Gwen Backhouse\n\nWHAT YOU'LLLEARN:\nWhat makes a good Virtual Assi
	stant truly great? In this tip-packed session\, Gwen Backhouse shares prac
	tical insights from real VAson what it takes to rise above the competition
	—no matter where you are in your business journey.You’ll learn how to:
	Communicate with confidence and clarityExpand and showcase in-demand skill
	 setsPrioritize client security and trustMarket yourself without feeling s
	alesyApply proven sales techniques that work\nWhetheryou’re just getting
	 started or scaling up\, you’ll leave with fresh ideas (some you may not
	 have heard before!) to help you shine in a crowded market.Gwen Backhouse
	 – Award-winning VA and founder of Curlew Secretarial Solutions\, with 
	12+ years in the VA industry and 24 years in administration.
DTSTART;VALUE=DATE:20251105
DTEND;VALUE=DATE:20251108
END:VEVENT
END:VCALENDAR
