BEGIN:VCALENDAR
VERSION:2.0
PRODID:-//InvisionCommunity Events 4.7.24//EN
METHOD:PUBLISH
CALSCALE:GREGORIAN
REFRESH-INTERVAL:PT15M
X-PUBLISHED-TTL:PT15M
X-WR-CALNAME:VANA Calendar
NAME:VANA Calendar
BEGIN:VTIMEZONE
TZID:Europe/London
TZURL:http://tzurl.org/zoneinfo/Europe/London
X-LIC-LOCATION:Europe/London
BEGIN:DAYLIGHT
TZOFFSETFROM:+0000
TZOFFSETTO:+0100
TZNAME:BST
DTSTART:20250330T020000Z
RRULE:FREQ=YEARLY;BYMONTH=3;BYDAY=-1SU
END:DAYLIGHT
BEGIN:STANDARD
TZOFFSETFROM:+0100
TZOFFSETTO:+0000
TZNAME:GMT
DTSTART:20251026T020000Z
RRULE:FREQ=YEARLY;BYMONTH=10;BYDAY=-1SU
END:STANDARD
END:VTIMEZONE
BEGIN:VEVENT
SUMMARY:#VAVS: Heather D. Black (On-demand replay available until No
	v. 7th\, 4 PM PT)
DTSTAMP:20250919T003402Z
SEQUENCE:0
UID:1310-8-83882903247d20c85298d00b96b44978@www.vanetworking.com
ORGANIZER;CN="Tawnya Sutherland":help@vanetworking.com
DESCRIPTION:&gt\;:&gt\;: Going to miss this one? No worries — grab a 
	VIP Pass and you’ll get the full replay\, notes\, and many more goodies 
	(yep\, $2000+ in Swag gifts!).\n🎟️ Grab a VIP Pass  \n\nTOPIC: Ig
	nite\, Attract\, Repeat: The Simple Event Strategy to Win &amp\; Keep Clie
	nts All Year\n\nSPEAKER: Heather D. Black\n\nWHAT YOU'LL LEARN:\nIn a noi
	sy online world\, it takes more than great service to stay top-of-mind. In
	 this session\, Heather D. Black reveals how simple\, strategic events can
	 help you build trust\, attract your ideal clients\, and turn one-time pro
	jects into lasting partnerships.You’ll learn how to:Use events to showca
	se your expertise and attract right-fit clientsCollaborate with others to 
	expand your reachPlan repeatable\, manageable events that keep you visible
	 all yearBuild a system that fuels growth—without burning out\nWalk away
	 with a clear plan to spark connection\, strengthen loyalty\, and grow you
	r business with ease.Heather D. Black – Event expert helping founders a
	nd speakers implement repeatable systems to host impactful events and scal
	e without wasted effort.
DTSTART;VALUE=DATE:20251105
DTEND;VALUE=DATE:20251108
END:VEVENT
END:VCALENDAR
