BEGIN:VCALENDAR
VERSION:2.0
PRODID:-//InvisionCommunity Events 4.7.24//EN
METHOD:PUBLISH
CALSCALE:GREGORIAN
REFRESH-INTERVAL:PT15M
X-PUBLISHED-TTL:PT15M
X-WR-CALNAME:VANA Calendar
NAME:VANA Calendar
BEGIN:VTIMEZONE
TZID:Europe/London
TZURL:http://tzurl.org/zoneinfo/Europe/London
X-LIC-LOCATION:Europe/London
BEGIN:DAYLIGHT
TZOFFSETFROM:+0000
TZOFFSETTO:+0100
TZNAME:BST
DTSTART:20250330T020000Z
RRULE:FREQ=YEARLY;BYMONTH=3;BYDAY=-1SU
END:DAYLIGHT
BEGIN:STANDARD
TZOFFSETFROM:+0100
TZOFFSETTO:+0000
TZNAME:GMT
DTSTART:20251026T020000Z
RRULE:FREQ=YEARLY;BYMONTH=10;BYDAY=-1SU
END:STANDARD
END:VTIMEZONE
BEGIN:VEVENT
SUMMARY:#VAVS: Kathy Goughenour (On-demand replay available until No
	v. 7th\, 4 PM PT)
DTSTAMP:20250919T003402Z
SEQUENCE:0
UID:1311-8-83882903247d20c85298d00b96b44978@www.vanetworking.com
ORGANIZER;CN="Tawnya Sutherland":help@vanetworking.com
DESCRIPTION:&gt\;:&gt\;: Going to miss this one? No worries — grab a 
	VIP Pass and you’ll get the full replay\, notes\, and many more goodies 
	(yep\, $2000+ in Swag gifts!).\n🎟️ Grab a VIP Pass  \n\nTOPIC: No
	 List\, No Leverage: How to Build the Asset That Pays You Forever\n\nSPEAK
	ER: Kathy Goughenour\n\nWHAT YOU'LLLEARN:\nThink of your email list as yo
	ur business’s ride-or-die. Social followers? They’re flaky. But your l
	ist? That’s the crew that stickswith you\, buys from you\, and fuels you
	r freedom.In this sassy\, simple session\, Kathy Goughenour will show you 
	how to grow an engaged emaillist without burning out\, breaking the bank\,
	 or boring your audience.You’ll learn:Why your list is your #1 business 
	asset (and how to treat it like gold)Easy ways to attract subscribers who 
	actually want what you offerHow to create leverage so you stop chasing c
	lients and start choosing themIf you’re ready to build a business that p
	ays you forever\, it all starts with the right list.Kathy Goughenour – 
	Founderof Virtual Expert Training™\, Kathy helps women build 6- and 7-fi
	gure businesses with flexibility\, fun\, and a touch of sparkle—all from
	 her tiny home in the woods.
DTSTART;VALUE=DATE:20251105
DTEND;VALUE=DATE:20251108
END:VEVENT
END:VCALENDAR
