BEGIN:VCALENDAR
VERSION:2.0
PRODID:-//InvisionCommunity Events 4.7.24//EN
METHOD:PUBLISH
CALSCALE:GREGORIAN
REFRESH-INTERVAL:PT15M
X-PUBLISHED-TTL:PT15M
X-WR-CALNAME:VANA Calendar
NAME:VANA Calendar
BEGIN:VTIMEZONE
TZID:Europe/London
TZURL:http://tzurl.org/zoneinfo/Europe/London
X-LIC-LOCATION:Europe/London
BEGIN:DAYLIGHT
TZOFFSETFROM:+0000
TZOFFSETTO:+0100
TZNAME:BST
DTSTART:20250330T020000Z
RRULE:FREQ=YEARLY;BYMONTH=3;BYDAY=-1SU
END:DAYLIGHT
BEGIN:STANDARD
TZOFFSETFROM:+0100
TZOFFSETTO:+0000
TZNAME:GMT
DTSTART:20251026T020000Z
RRULE:FREQ=YEARLY;BYMONTH=10;BYDAY=-1SU
END:STANDARD
END:VTIMEZONE
BEGIN:VEVENT
SUMMARY:#VAVS: Jylian Buitendyk (On-demand replay available until No
	v. 7th\, 4 PM PT)
DTSTAMP:20250919T003402Z
SEQUENCE:0
UID:1312-8-83882903247d20c85298d00b96b44978@www.vanetworking.com
ORGANIZER;CN="Tawnya Sutherland":help@vanetworking.com
DESCRIPTION:&gt\;:&gt\;: Going to miss this one? No worries — grab a 
	VIP Pass and you’ll get the full replay\, notes\, and many more goodies 
	(yep\, $2000+ in Swag gifts!).\n🎟️ Grab a VIP Pass  \n\nTOPIC: Bo
	undaries by Design: Organizing Your Calendar\, Clients\, and Time\n\nSPEAK
	ER: Jylian Buitendyk\n\nWHAT YOU'LLLEARN:\nHealthy boundaries aren’t on
	e-size-fits-all—they’re custom-built to protect your time\, energy\, a
	nd sanity. In this session\, Jylian Buitendyk shares how to set flexible y
	et firm boundaries across three critical areas: your calendar\, your clien
	t communication\, and your business systems.You’ll learn how to:Design a
	 schedule that supports your energy and prioritiesSet communication bounda
	ries that feel clear—not coldUse systems to automate boundaryenforcement
	 (without guilt)Build a personalized “menu” of strategies you can adju
	st over time\nWhether you’re overwhelmed by clientdemands or just need b
	etter structure\, you’ll walk away with boundary tools that feel good—
	and actually work.Jylian Buitendyk – Founder of Next Level Organized\, 
	she helps freelancers streamline systems\, set boundaries\, and build bala
	nced\, sustainable businesses.
DTSTART;VALUE=DATE:20251105
DTEND;VALUE=DATE:20251108
END:VEVENT
END:VCALENDAR
