BEGIN:VCALENDAR
VERSION:2.0
PRODID:-//InvisionCommunity Events 4.7.24//EN
METHOD:PUBLISH
CALSCALE:GREGORIAN
REFRESH-INTERVAL:PT15M
X-PUBLISHED-TTL:PT15M
X-WR-CALNAME:VANA Calendar
NAME:VANA Calendar
BEGIN:VTIMEZONE
TZID:Europe/London
TZURL:http://tzurl.org/zoneinfo/Europe/London
X-LIC-LOCATION:Europe/London
BEGIN:DAYLIGHT
TZOFFSETFROM:+0000
TZOFFSETTO:+0100
TZNAME:BST
DTSTART:20250330T020000Z
RRULE:FREQ=YEARLY;BYMONTH=3;BYDAY=-1SU
END:DAYLIGHT
BEGIN:STANDARD
TZOFFSETFROM:+0100
TZOFFSETTO:+0000
TZNAME:GMT
DTSTART:20251026T020000Z
RRULE:FREQ=YEARLY;BYMONTH=10;BYDAY=-1SU
END:STANDARD
END:VTIMEZONE
BEGIN:VEVENT
SUMMARY:#VAVS: LaKesha Powell (On-demand replay available until Nov.
	 7th\, 4 PM PT)
DTSTAMP:20250919T003402Z
SEQUENCE:0
UID:1313-8-83882903247d20c85298d00b96b44978@www.vanetworking.com
ORGANIZER;CN="Tawnya Sutherland":help@vanetworking.com
DESCRIPTION:&gt\;:&gt\;: Going to miss this one? No worries — grab a 
	VIP Pass and you’ll get the full replay\, notes\, and many more goodies 
	(yep\, $2000+ in Swag gifts!).\n🎟️ Grab a VIP Pass  \n\nTOPIC: Ct
	rl + AI + Create: Transform Your VA Services with AI-Powered Client Commun
	ication\n\nSPEAKER: LaKesha Powell\n\nWHAT YOU'LL LEARN:\nWhat if you cou
	ld cut your writing time by 75%—while making your emails\, proposals\, a
	nd marketing copy more compelling than ever? In this actionable session\, 
	LaKesha Powell reveals her 6-Component AI Framework that’s helped hundre
	ds of service providers transform how they attract\, convert\, and retain 
	clients.You’ll learn how to:Use AI to amplify your voice (not replace it
	)Create persuasive client content in minutes\, not hoursBuild proposal and
	 retention email templates that actually convertPosition yourself as a pre
	mium\, go-to VA using AI-enhanced communicationIf you’re ready to stand 
	out\, save time\, and deepen client relationships\, don’t miss this sess
	ion.LaKesha Powell – Founder of LuvenSmilez PBC\, she’s pioneered AI-
	assisted content creation\, teaching 1\,000+ entrepreneurs her signature6-
	Component Template method since 2015.
DTSTART;VALUE=DATE:20251105
DTEND;VALUE=DATE:20251108
END:VEVENT
END:VCALENDAR
