BEGIN:VCALENDAR
VERSION:2.0
PRODID:-//InvisionCommunity Events 4.7.24//EN
METHOD:PUBLISH
CALSCALE:GREGORIAN
REFRESH-INTERVAL:PT15M
X-PUBLISHED-TTL:PT15M
X-WR-CALNAME:VANA Calendar
NAME:VANA Calendar
BEGIN:VTIMEZONE
TZID:Europe/London
TZURL:http://tzurl.org/zoneinfo/Europe/London
X-LIC-LOCATION:Europe/London
BEGIN:DAYLIGHT
TZOFFSETFROM:+0000
TZOFFSETTO:+0100
TZNAME:BST
DTSTART:20250330T020000Z
RRULE:FREQ=YEARLY;BYMONTH=3;BYDAY=-1SU
END:DAYLIGHT
BEGIN:STANDARD
TZOFFSETFROM:+0100
TZOFFSETTO:+0000
TZNAME:GMT
DTSTART:20251026T020000Z
RRULE:FREQ=YEARLY;BYMONTH=10;BYDAY=-1SU
END:STANDARD
END:VTIMEZONE
BEGIN:VEVENT
SUMMARY:#VAVS: Lou Bortone (On-demand replay available until Nov. 7t
	h\, 4 PM PT)
DTSTAMP:20250919T003402Z
SEQUENCE:0
UID:1314-8-83882903247d20c85298d00b96b44978@www.vanetworking.com
ORGANIZER;CN="Tawnya Sutherland":help@vanetworking.com
DESCRIPTION:&gt\;:&gt\;: Going to miss this one? No worries — grab a 
	VIP Pass and you’ll get the full replay\, notes\, and many more goodies 
	(yep\, $2000+ in Swag gifts!).\n🎟️ Grab a VIP Pass  \n\nTOPIC: Ho
	w to Create an EASY New Revenue Stream With AI Podcast and Video Editing\n
	\nSPEAKER: Lou Bortone\n\nWHAT YOU'LL LEARN:\nLove organizing for clients
	? Now imagine helping them sound and look amazing\, too. In this hands
	-on session\, Lou Bortone shows you how to use simple AI tools to offer po
	dcast and video editing as a new high-value service—without tech overwhe
	lm orfancy equipment.You’ll learn how to:Use AI to clean up audio and ed
	it video like a proRepurpose long-form content into social-ready clipsSave
	 hours with tools that simplify editingPackage and price this as a recurri
	ng revenue streamIf you can copy-paste\, you can offer AI editing—and ad
	d a new income stream your clients are already asking for.Lou Bortone –
	 Known as “The Video Godfather\,” Lou helps entrepreneurs use video an
	d AI to grow their visibility\, authority\, and revenue with ease.
DTSTART;VALUE=DATE:20251105
DTEND;VALUE=DATE:20251108
END:VEVENT
END:VCALENDAR
