BEGIN:VCALENDAR
VERSION:2.0
PRODID:-//InvisionCommunity Events 4.7.24//EN
METHOD:PUBLISH
CALSCALE:GREGORIAN
REFRESH-INTERVAL:PT15M
X-PUBLISHED-TTL:PT15M
X-WR-CALNAME:VANA Calendar
NAME:VANA Calendar
BEGIN:VTIMEZONE
TZID:Europe/London
TZURL:http://tzurl.org/zoneinfo/Europe/London
X-LIC-LOCATION:Europe/London
BEGIN:DAYLIGHT
TZOFFSETFROM:+0000
TZOFFSETTO:+0100
TZNAME:BST
DTSTART:20250330T020000Z
RRULE:FREQ=YEARLY;BYMONTH=3;BYDAY=-1SU
END:DAYLIGHT
BEGIN:STANDARD
TZOFFSETFROM:+0100
TZOFFSETTO:+0000
TZNAME:GMT
DTSTART:20251026T020000Z
RRULE:FREQ=YEARLY;BYMONTH=10;BYDAY=-1SU
END:STANDARD
END:VTIMEZONE
BEGIN:VEVENT
SUMMARY:#VAVS: Missy Lund (On-demand replay available until Nov. 7th
	\, 4 PMPT)
DTSTAMP:20250919T003402Z
SEQUENCE:0
UID:1315-8-83882903247d20c85298d00b96b44978@www.vanetworking.com
ORGANIZER;CN="Tawnya Sutherland":help@vanetworking.com
DESCRIPTION:&gt\;:&gt\;: Going to miss this one? No worries — grab a 
	VIP Pass and you’ll get the full replay\, notes\, and many more goodies 
	(yep\, $2000+ in Swag gifts!).\n🎟️ Grab a VIP Pass  \n\nTOPIC: Th
	e Client Magnet Method: Attract and Retain Clients Using Pinterest\n\nSPEA
	KER: Missy Lund\n\nWHAT YOU'LL LEARN:\nPinterest isn’t just for recip
	es—it’s a powerful platform where service providers can connect with p
	eople actively searching for support.In this session\, Missy Lund shares a
	 proven framework for using Pinterestto consistently attract and retain yo
	ur ideal clients.You’ll learn how to:Understand client search behavior o
	n PinterestOptimize your profile to build instant trustDesignpins that dri
	ve clicks\, inquiries\, and conversionsStay visible for repeat work and re
	ferralsWhether you’re building your roster or deepening client relations
	hips\, this session will show you how to make Pinterest a reliable and res
	ults-driven marketing tool.Missy Lund – Pinterest Marketing Specialist 
	helping e-commerce brands\, startups\, and service providers grow traffic 
	and visibility with conversion-focused strategies.
DTSTART;VALUE=DATE:20251105
DTEND;VALUE=DATE:20251108
END:VEVENT
END:VCALENDAR
