BEGIN:VCALENDAR
VERSION:2.0
PRODID:-//InvisionCommunity Events 4.7.24//EN
METHOD:PUBLISH
CALSCALE:GREGORIAN
REFRESH-INTERVAL:PT15M
X-PUBLISHED-TTL:PT15M
X-WR-CALNAME:VANA Calendar
NAME:VANA Calendar
BEGIN:VTIMEZONE
TZID:Europe/London
TZURL:http://tzurl.org/zoneinfo/Europe/London
X-LIC-LOCATION:Europe/London
BEGIN:DAYLIGHT
TZOFFSETFROM:+0000
TZOFFSETTO:+0100
TZNAME:BST
DTSTART:20250330T020000Z
RRULE:FREQ=YEARLY;BYMONTH=3;BYDAY=-1SU
END:DAYLIGHT
BEGIN:STANDARD
TZOFFSETFROM:+0100
TZOFFSETTO:+0000
TZNAME:GMT
DTSTART:20251026T020000Z
RRULE:FREQ=YEARLY;BYMONTH=10;BYDAY=-1SU
END:STANDARD
END:VTIMEZONE
BEGIN:VEVENT
SUMMARY:#VAVS: Shakila Booker (On-demand replay available until Nov.
	 7th\, 4 PM PT)
DTSTAMP:20250919T003402Z
SEQUENCE:0
UID:1316-8-83882903247d20c85298d00b96b44978@www.vanetworking.com
ORGANIZER;CN="Tawnya Sutherland":help@vanetworking.com
DESCRIPTION:&gt\;:&gt\;: Going to miss this one? No worries — grab a 
	VIP Pass and you’ll get the full replay\, notes\, and many more goodies 
	(yep\, $2000+ in Swag gifts!).\n🎟️ Grab a VIP Pass  \n\nTOPIC: Yo
	ur Backend Systems Create Magic\n\nSPEAKER: Shakila Booker\n\nWHAT YOU'LL
	 LEARN:\nBehind every thriving VA business is a foundation of backend syst
	ems that work like clockwork. In this session\, Shakila Booker shows you h
	ow to design operational workflows that not only support you but impress y
	our clients from day one.You’ll learn how to:Set up tools and processes 
	for a smoother client journeyStreamline onboarding and offboarding with co
	nfidenceBuild systems that help you attract and retain dream clientsTurn y
	our backend into a growth engine (without burnout)Whether you’re startin
	g from scratch or refiningyour operations\, this session will help you bui
	ld a business that feels effortless—and magical.Shakila Booker – Owne
	r of SML Assisting and known as Your Business Nanny®\, she helps solopren
	eurs and event pros scale with strategic support and strong systems.
DTSTART;VALUE=DATE:20251105
DTEND;VALUE=DATE:20251108
END:VEVENT
END:VCALENDAR
