BEGIN:VCALENDAR
VERSION:2.0
PRODID:-//InvisionCommunity Events 4.7.24//EN
METHOD:PUBLISH
CALSCALE:GREGORIAN
REFRESH-INTERVAL:PT15M
X-PUBLISHED-TTL:PT15M
X-WR-CALNAME:VANA Calendar
NAME:VANA Calendar
BEGIN:VTIMEZONE
TZID:Europe/London
TZURL:http://tzurl.org/zoneinfo/Europe/London
X-LIC-LOCATION:Europe/London
BEGIN:DAYLIGHT
TZOFFSETFROM:+0000
TZOFFSETTO:+0100
TZNAME:BST
DTSTART:20250330T020000Z
RRULE:FREQ=YEARLY;BYMONTH=3;BYDAY=-1SU
END:DAYLIGHT
BEGIN:STANDARD
TZOFFSETFROM:+0100
TZOFFSETTO:+0000
TZNAME:GMT
DTSTART:20251026T020000Z
RRULE:FREQ=YEARLY;BYMONTH=10;BYDAY=-1SU
END:STANDARD
END:VTIMEZONE
BEGIN:VEVENT
SUMMARY:VANA Holiday Hangout (Members Only)
DTSTAMP:20251217T043402Z
SEQUENCE:1
UID:1321-8-83882903247d20c85298d00b96b44978@www.vanetworking.com
ORGANIZER;CN="Tawnya Sutherland":help@vanetworking.com
DESCRIPTION:For our valued members of the VANA Community\, Virtual A
	ssistant Career\, or Get Clients Club—we’d love for you to join us fo
	r our cozy\, casual 🎄​Holiday Hangout on Zoom! This isn't a big fanc
	y event—just a laid-back get-together where we can relax\, laugh\, yap a
	ndenjoy the season together.Here’s What to Expect:👗 Dress Code: Fanc
	y or Funny—You Choose!Come in your sparkly best or your most ridiculous 
	ugly sweater! Whether you go glam or goofy\, we’ll be celebrating your h
	olidaystyle.🎁 Optional: Community Gift Swap!Want to bring a little some
	thing for your fellow attendees? You’re welcome to share a helpful freeb
	ie or offer during the party—just drop the link in the Zoom chat when we
	 open up the gift-sharing moment!Not sure what to share? Here are some sim
	ple ideas:ACanva or Trello template you use regularlyA checklist or planne
	r page you madeA swipe file\, mini workbook\, or printableA helpful free t
	ool or extension you recommendA coupon code for your digital product or se
	rviceOr even your top tip of 2025—wisdom counts as a gift too!No pressu
	re at all—share if you’d like\, or just enjoy collecting someholiday g
	oodies from your fellow members!📅 Date: Thursday\, December 18th\,
	 2025⏰ Time: 3pm PT (6pm ET)📍 ZOOM room URL:  This will be emaile
	d to you.Let’s wrap up the year with a bit of holiday magic and meaningf
	ul connection. No pressure—just good vibes\, great people\, and some fes
	tive fun.
DTSTART:20251218T230000Z
DTEND:20251219T000000Z
END:VEVENT
END:VCALENDAR
