BEGIN:VCALENDAR
VERSION:2.0
PRODID:-//InvisionCommunity Events 4.7.24//EN
METHOD:PUBLISH
CALSCALE:GREGORIAN
REFRESH-INTERVAL:PT15M
X-PUBLISHED-TTL:PT15M
X-WR-CALNAME:VANA Calendar
NAME:VANA Calendar
BEGIN:VTIMEZONE
TZID:Europe/London
TZURL:http://tzurl.org/zoneinfo/Europe/London
X-LIC-LOCATION:Europe/London
BEGIN:DAYLIGHT
TZOFFSETFROM:+0000
TZOFFSETTO:+0100
TZNAME:BST
DTSTART:20260329T020000Z
RRULE:FREQ=YEARLY;BYMONTH=3;BYDAY=-1SU
END:DAYLIGHT
BEGIN:STANDARD
TZOFFSETFROM:+0100
TZOFFSETTO:+0000
TZNAME:GMT
DTSTART:20261025T020000Z
RRULE:FREQ=YEARLY;BYMONTH=10;BYDAY=-1SU
END:STANDARD
END:VTIMEZONE
BEGIN:VEVENT
SUMMARY:FREE VANA Community Webinar
DTSTAMP:20260101T203402Z
SEQUENCE:0
UID:1325-8-83882903247d20c85298d00b96b44978@www.vanetworking.com
ORGANIZER;CN="Tawnya Sutherland":help@vanetworking.com
DESCRIPTION:Dive into success with our FREE monthly training webinars at
	 VAnetworking.com\, tailored specifically for Virtual Assistants eager to 
	growtheir skills and business.\n\nTOPIC: VA Biz Office Hour\n\nSPEAKER: 
	Tawnya Sutherland\n\nWhat You'll Learn: \nGot questions about your VA bus
	iness that you’ve been sitting on for too long?Then come hang out with 
	me live this Thursday for a session that’s all about you and the rea
	l challenges you’re facing in your business.This isn’t a presentation.
	There are no slides.Just real talk\, strategic guidance\, and answers to y
	our burning questions — from someone who’s been in the VA industry for
	 over 25 years.We’ll cover whatever you bring to the table:Pricing strug
	glesClient situationsBusiness structureBoundaries\, systems\, packages —
	 you name itBring your questions. I’ll do my best to bring you the answe
	rs.\nJOIN US LIVE HERE:  https://us02web.zoom.us/j/84330422530 (Passcod
	e: 123456)\n\nCan’t Make It LIVE? 🎥  \n\nWe get it\; life is as unp
	redictable as the latest TikTok trend. If you can't join us live\, we'vest
	ill got your back. By joining our VANA Community\, you’ll get access t
	o the replay\, slide deck notes\, plus a treasure trove of VA resources th
	at’ll make you wonder how you ever freelanced without us. All for under$
	9/month! It’s just another perk of being part of our awesome community.\
	n\n🔗 Join our VANA Community today!
DTSTART:20260423T200000Z
DTEND:20260423T210000Z
END:VEVENT
END:VCALENDAR
