BEGIN:VCALENDAR
VERSION:2.0
PRODID:-//InvisionCommunity Events 4.7.24//EN
METHOD:PUBLISH
CALSCALE:GREGORIAN
REFRESH-INTERVAL:PT15M
X-PUBLISHED-TTL:PT15M
X-WR-CALNAME:VANA Calendar
NAME:VANA Calendar
BEGIN:VTIMEZONE
TZID:Europe/London
TZURL:http://tzurl.org/zoneinfo/Europe/London
X-LIC-LOCATION:Europe/London
BEGIN:DAYLIGHT
TZOFFSETFROM:+0000
TZOFFSETTO:+0100
TZNAME:BST
DTSTART:20260329T020000Z
RRULE:FREQ=YEARLY;BYMONTH=3;BYDAY=-1SU
END:DAYLIGHT
BEGIN:STANDARD
TZOFFSETFROM:+0100
TZOFFSETTO:+0000
TZNAME:GMT
DTSTART:20261025T020000Z
RRULE:FREQ=YEARLY;BYMONTH=10;BYDAY=-1SU
END:STANDARD
END:VTIMEZONE
BEGIN:VEVENT
SUMMARY:Get Clients Club: Monthly Training
DTSTAMP:20260101T203402Z
SEQUENCE:2
UID:1332-8-83882903247d20c85298d00b96b44978@www.vanetworking.com
ORGANIZER;CN="Tawnya Sutherland":help@vanetworking.com
DESCRIPTION:Get Clients Club Core Training Series\n\nWhat you'lllearn to
	day: \nBuilding a Website to Attract Clients Website Design JargonSettin
	g Up Your WebsiteWriting Persuasive Sales CopyWebsite TIPS to Attract Clie
	ntsGet ready to become a client magnet because this series is where you’
	ll learn how to find clients\, keep clients\, and have those clients send 
	you steady streams of referrals for years to come!\n\nIf you want the answ
	er to the famous question of: “How do I find clients?” This ongoing se
	ries will give you the answers you've been searching for. You'll be provid
	ed with successful client-attracting strategies thatyou can implement How
	 to Join:Current Members:  Log into your Member Dashboard for the Zoom 
	link.\n\nNot a Member Yet? Don’t miss out—JOIN US NOW at GetClients
	Club.com and start your journey towards business success.
DTSTART:20260225T193000Z
DTEND:20260225T203000Z
END:VEVENT
END:VCALENDAR
