BEGIN:VCALENDAR
VERSION:2.0
PRODID:-//InvisionCommunity Events 4.7.24//EN
METHOD:PUBLISH
CALSCALE:GREGORIAN
REFRESH-INTERVAL:PT15M
X-PUBLISHED-TTL:PT15M
X-WR-CALNAME:VANA Calendar
NAME:VANA Calendar
BEGIN:VTIMEZONE
TZID:Europe/London
TZURL:http://tzurl.org/zoneinfo/Europe/London
X-LIC-LOCATION:Europe/London
BEGIN:DAYLIGHT
TZOFFSETFROM:+0000
TZOFFSETTO:+0100
TZNAME:BST
DTSTART:20260329T020000Z
RRULE:FREQ=YEARLY;BYMONTH=3;BYDAY=-1SU
END:DAYLIGHT
BEGIN:STANDARD
TZOFFSETFROM:+0100
TZOFFSETTO:+0000
TZNAME:GMT
DTSTART:20261025T020000Z
RRULE:FREQ=YEARLY;BYMONTH=10;BYDAY=-1SU
END:STANDARD
END:VTIMEZONE
BEGIN:VEVENT
SUMMARY:Get Clients Club: Monthly Training
DTSTAMP:20260101T203402Z
SEQUENCE:4
UID:1335-8-83882903247d20c85298d00b96b44978@www.vanetworking.com
ORGANIZER;CN="Tawnya Sutherland":help@vanetworking.com
DESCRIPTION:Get Clients Club Core Training Series\n\nWhat you'lllearn to
	day: \nHow to Prospect for Clients Made of GoldWhat is Client Prospecting
	?Who is that Golden Client?Track Your ProspectsThe Prospector’s GoalsWay
	s to Prospect ClientsGet ready to become a client magnet because this seri
	es is where you’ll learn how to find clients\, keep clients\, and have t
	hose clients send you steady streams of referrals for years to come!\n\nIf
	 you want the answer to the famous question of: “How do I find clients
	?” This ongoing series will give you the answers you've been searching f
	or. You'll be provided with successful client-attracting strategies that y
	ou can implement How to Join:Current Members:  Log into your Member Das
	hboard for the Zoom link.\n\nNot a Member Yet? Don’t miss out—JOIN 
	US NOW at GetClientsClub.com and start your journey towards business su
	ccess.
DTSTART:20260114T193000Z
DTEND:20260114T203000Z
END:VEVENT
END:VCALENDAR
